BEGIN:VCALENDAR
PRODID:NingEventWidget-v1
VERSION:2.0
METHOD:PUBLISH
BEGIN:VTIMEZONE
TZID:America/Los_Angeles
X-LIC-LOCATION:America/Los_Angeles
BEGIN:DAYLIGHT
TZOFFSETFROM:-0800
TZOFFSETTO:-0700
TZNAME:PDT
DTSTART:19700308T020000
RRULE:FREQ=YEARLY;BYMONTH=3;BYDAY=2SU
END:DAYLIGHT
BEGIN:STANDARD
TZOFFSETFROM:-0700
TZOFFSETTO:-0800
TZNAME:PST
DTSTART:19701101T020000
RRULE:FREQ=YEARLY;BYMONTH=11;BYDAY=1SU
END:STANDARD
END:VTIMEZONE
BEGIN:VEVENT
UID:1464587:Event:606534
DTSTAMP:20260421T053535Z
SUMMARY:Dwele
DESCRIPTION:Wed-Thurs, April 22 -23\nDwele\nDoors: 7:30 PM / Show: 8
 :00 PM\nDoors: 9:45 PM / Show: 10:00 PM\nYoshi's Oakland\nOakland, C
 A\n$27.00 - $57.00\n>> BUY TICKETS\n\n\n\n\n\nFor more information vis
 it http://trueskool.com/events/dwele-4
DTSTART;TZID=America/Los_Angeles:20150422T200000
DTEND;TZID=America/Los_Angeles:20150423T234500
CATEGORIES:"san francisco", oakland, berkley, "san jose", "bay area"
LOCATION:Yoshi's, Oakland
WEBSITE:http://www.yoshis.com/event/747637-dwele-oakland/
URL:http://www.yoshis.com/event/747637-dwele-oakland/
CONTACT:
ORGANIZER;CN="Editor's Pick":http://trueskool.com/profile/RentheVinylA
 rchaeologist
ATTACH;FMTTYPE="image/jpeg":http://storage.ning.com/topology/rest/1.0/
 file/get/2247973997?profile=original
ATTENDEE;ROLE=REQ-PARTICIPANT;PARTSTAT=ACCEPTED;RSVP=TRUE;CN="Editor's
  Pick":http://trueskool.com/profile/RentheVinylArchaeologist
END:VEVENT
END:VCALENDAR
