BEGIN:VCALENDAR
PRODID:NingEventWidget-v1
VERSION:2.0
METHOD:PUBLISH
BEGIN:VTIMEZONE
TZID:America/Los_Angeles
X-LIC-LOCATION:America/Los_Angeles
BEGIN:DAYLIGHT
TZOFFSETFROM:-0800
TZOFFSETTO:-0700
TZNAME:PDT
DTSTART:19700308T020000
RRULE:FREQ=YEARLY;BYMONTH=3;BYDAY=2SU
END:DAYLIGHT
BEGIN:STANDARD
TZOFFSETFROM:-0700
TZOFFSETTO:-0800
TZNAME:PST
DTSTART:19701101T020000
RRULE:FREQ=YEARLY;BYMONTH=11;BYDAY=1SU
END:STANDARD
END:VTIMEZONE
BEGIN:VEVENT
UID:1464587:Event:651083
DTSTAMP:20260420T173840Z
SUMMARY:Dub Mission Sound System feat DJ Sep & mc Luv Fyah, plus Janak
 a Selekta feat Tony Sax (live sound system) at Elbo Room
DESCRIPTION:Sunday, July 3, 2016Dub Mission celebrates 4th Of July Wee
 kend with a double-Sound System session:Dub Mission Sound System with 
 DJ Sep and mc Luv Fyahplus Janaka Selekta featuring Tony Sax (original
 s & reggae remixes set)Elbo Room: 647 Valencia Street, SF, CA 94110 21
 & over - 415 552 7788  9:30 pm-2 am - $7 Advance tickets at www.dmjuly
 3.bpt.me \nCelebrating its 20th anniversary this September, Dub Missi
 on is one of the longest-running parties in the world, featuring cutti
 ng-edge dub, roots reggae, dancehall and more, every second Friday at 
 Elbo Room. Voted Bay Area's Best Reggae Club two years in a row, Dub M
 ission has featured artists from all over the world, including The Sci
 entist, Mad Professor & the Ariwa Sound System, Mungo's Hi Fi with Soo
 m T and Solo Banton, Adrian Sherwood & the ON-U Sound System, Tippa Ir
 ie and Saxon Sound System, Prince Fatty Sound System, Jahdan Blakkamoo
 re, Zion Train, Twilight Circus Dub Sound System, Nickodemus, DJ Vadim
  and many others.\nwww.dubmission.com www.twitter.com/djsepdubmission 
 www.facebook.com/DubMissionSF www.youtube.com/dubmission www.soundclou
 d.com/dubmissionsf  www.instagram.com/dubmissionsf\nDub Mission Sound 
 System:\nhttps://www.youtube.com/watch?v=Lx3Z5Bagdoo\nhttps://www.yout
 ube.com/watch?v=BvVhs6U-gkg\n \n\n \n\nFor more information visit ht
 tp://trueskool.com/events/dub-mission-sound-system-feat-dj-sep-mc-luv-
 fyah-plus-janaka
DTSTART;TZID=America/Los_Angeles:20160703T213000
DTEND;TZID=America/Los_Angeles:20160704T020000
CATEGORIES:dj, sep, janaka, selekta, dub, mission, dubmission, bay, ar
 ea, sound, system, live, reggae, roots, dancehall, dance, party, remix
 es, san, francisco, music, nightlife, djs
LOCATION:Elbo Room
WEBSITE:http://www.elbo.com
URL:http://www.elbo.com
CONTACT:415-552-7788
ORGANIZER;CN="DJ SEP":http://trueskool.com/profile/DJSEP
ATTACH;FMTTYPE="image/jpeg":http://storage.ning.com/topology/rest/1.0/
 file/get/2247989263?profile=original
ATTENDEE;ROLE=REQ-PARTICIPANT;PARTSTAT=ACCEPTED;RSVP=TRUE;CN="DJ SEP":
 http://trueskool.com/profile/DJSEP
END:VEVENT
END:VCALENDAR
