BEGIN:VCALENDAR
PRODID:NingEventWidget-v1
VERSION:2.0
METHOD:PUBLISH
BEGIN:VTIMEZONE
TZID:America/Los_Angeles
X-LIC-LOCATION:America/Los_Angeles
BEGIN:DAYLIGHT
TZOFFSETFROM:-0800
TZOFFSETTO:-0700
TZNAME:PDT
DTSTART:19700308T020000
RRULE:FREQ=YEARLY;BYMONTH=3;BYDAY=2SU
END:DAYLIGHT
BEGIN:STANDARD
TZOFFSETFROM:-0700
TZOFFSETTO:-0800
TZNAME:PST
DTSTART:19701101T020000
RRULE:FREQ=YEARLY;BYMONTH=11;BYDAY=1SU
END:STANDARD
END:VTIMEZONE
BEGIN:VEVENT
UID:1464587:Event:131202
DTSTAMP:20260420T165925Z
SUMMARY:DUB MISSION's 16th ANNIVERSARY!
DESCRIPTION:DUB MISSION’s 16th ANNIVERSARY! \nfeaturing DUB MISSION
 ’s DJ SEP, VINNIE ESPARZA, and LUDICHRIS on the turntables\nplus spe
 cial sound system set with MISTA CHATMAN (Jam Jam/Seattle) on the mic\
 n9 pm to 2 am - $8 Adv./$10 Door\nLimited advance tickets at www.inti
 cketing.com and www.brownpapertickets.com\nMore Info: www.dubmission.c
 om\n \nOn Sunday, September 2nd, DUB MISSION will celebrate 16 years 
 of spreading the dub virus throughout the Bay Area and beyond with ste
 llar sets from DUB MSSION residents DJ SEP, VINNIE ESPARZA, and LUDICH
 RIS to get the dance floor jumping. West Coast’s ambassador of the r
 aggamuffin stylee MISTA CHATMAN (Jam Jam/Seattle) will keep things liv
 ely pon di mic throughout the evening, then drop his own unique danceh
 all set with DJ SEP running versions from JA & beyond. NOT to be misse
 d!! \n \nDUB MISSION was started in 1996 as an alternative to the ty
 pical reggae night. The idea was to present the more cutting-edge side
  of the music (i.e. all forms of dub and progressive roots reggae danc
 ehall) that had not been heard much in Bay Area clubs until then. Read
  more at www.dubmission.com\nFrom the mountainsides of eastern WA to t
 he sandy beaches of Jamaica and many places in between, reggae music a
 mbassador MISTA CHATMAN remains livicated to entertaining the masses w
 ith his conscious, ragga-styled mic chatting. For the past few years h
 e has performed in many festivals, shows and reggae parties in places 
 like B.C., NYC, S.F. and JA, both solo and alongside artists such as D
 elhi2Dublin, Kytami, Subatomic Sound System, Jahdan Blakkamoore, Non S
 top Bhangra. He has also shared the stage with many reggae greats such
  as Collie Buddz, Mad Professor, Barrington Levy, Marlon Asher, and Ye
 llowman. Chatman is also an event host and promoter with his six-year 
 Seattle-based weekly reggae party JAM JAM, and his seasonal all ages B
 ABY LUVS REGGAE event. While his live appearances have been his main v
 ehicle for spreading his musical message, he also has begun to focus o
 n more recording projects and has collaborated with the likes of Canad
 a’s Delhi2Dublin with Kytami, S.F. dubstep producer El Diablo, and B
 rooklyn-based glitch producer Rx. Forthcoming projects include tunes w
 ith Slit Jockey Record's El Carnicero, Jamaican artist God Head, B.C.-
 based producer The Phonograff, and local producer Shockman.\nwww.faceb
 ook.com/mistachatman\n \n\nFor more information visit http://trueskoo
 l.com/events/dub-mission-s-16th-anniversary
DTSTART;TZID=America/Los_Angeles:20120902T210000
DTEND;TZID=America/Los_Angeles:20120903T020000
CATEGORIES:"san, francisco,", "bay, area,", "dub, mission,", "sunday,"
 , "dj sep,", "vinnie esparza'", "anniversary,", "reggae,", "dancehall,
 ", "“dub”", "mista chatman"
LOCATION:Elbo Room
WEBSITE:http://www.dubmission.com
URL:http://www.dubmission.com
CONTACT:4155527788
ORGANIZER;CN="DJ SEP":http://trueskool.com/profile/DJSEP
ATTACH;FMTTYPE="image/jpeg":http://storage.ning.com/topology/rest/1.0/
 file/get/2247921198?profile=original
ATTENDEE;ROLE=REQ-PARTICIPANT;PARTSTAT=ACCEPTED;RSVP=TRUE;CN="DJ SEP":
 http://trueskool.com/profile/DJSEP
END:VEVENT
END:VCALENDAR
