BEGIN:VCALENDAR
PRODID:NingEventWidget-v1
VERSION:2.0
METHOD:PUBLISH
BEGIN:VTIMEZONE
TZID:America/Los_Angeles
X-LIC-LOCATION:America/Los_Angeles
BEGIN:DAYLIGHT
TZOFFSETFROM:-0800
TZOFFSETTO:-0700
TZNAME:PDT
DTSTART:19700308T020000
RRULE:FREQ=YEARLY;BYMONTH=3;BYDAY=2SU
END:DAYLIGHT
BEGIN:STANDARD
TZOFFSETFROM:-0700
TZOFFSETTO:-0800
TZNAME:PST
DTSTART:19701101T020000
RRULE:FREQ=YEARLY;BYMONTH=11;BYDAY=1SU
END:STANDARD
END:VTIMEZONE
BEGIN:VEVENT
UID:1464587:Event:54599
DTSTAMP:20260421T160634Z
SUMMARY:DUB MISSION presents NICKODEMUS meets THE SPY FROM CAIRO  (Tur
 ntables on the Hudson/Wonderwheel/NY), plus DJ SEP
DESCRIPTION:Sunday, May 30, 2010\nDUB MISSION presents a Bay Area Excl
 usive show featuring two of NY's finest producers:\nNICKODEMUS (Turnta
 bles)\nmeets THE SPY FROM CAIRO (aka ZEB – LIVE SET on oud and elect
 ronics!)\n(Turntables on the Hudson/Wonderwheel Recordings/Irma/Esl Mu
 sic/NY)\nplus DJ SEP\nat Elbo Room (647 Valencia Street x 17th) SF - C
 lub is 21+ - Club info: 415 552 7788\n9 pm to 2 am - $8 advance / $11 
 door\nVery limited advance available tickets at www.brownpapertickets.
 com & www.jambasetickets.com\nMore information: www.dubmissionsf.com\n
 \nFrom the early days of Giant Step, to today's Turntables on the Huds
 on parties, producer/remixer/DJ NICKODEMUS has been a key element in t
 he NYC dance music scene for over a decade. As a DJ and producer, he s
 pans the World with sounds of Funk, Folk, Jazz, Hip Hop, House and Dub
 --all with a message of peace, awareness and love for the dance. He ha
 s been a supporting DJ for live concerts by the likes of Gil Scott Her
 on, The Pharcyde, Mos Def & Kweli, KRS-One, Thievery Corporation, Puch
 o & the Latin Soul Brothers, Angelique Kidjo, Femi Kuti and many other
 s, and has been a featured guest DJ at various clubs throughout the wo
 rld and all major cities in the U.S. NICKODEMUS runs his own label--Wo
 nderwheel Recordings--and has done remixes for artists like Billy Holi
 day, Thievery Corporation, Sultan Khan, Astor Piazzolla, Gilfeme, Dubl
 ex Inc, Nina Simone, Boozoo Bajou, Karuan, Madrid de los Austrias, and
  Truby Trio. His latest release on Wonderwheel Recordings is Sun Peopl
 e Remixed, featuring Earthrise Soundsystem, The Pimps of Joytime, Tal 
 M Klein, Red Astaire, J-Boogie, Christian Prommer, Kush Arora, Adham S
 haihk, Pablo Sanchez, Sabo, and many others. The next Nickodemus album
  will drop in 2010 will be the album for all the MOON PEOPLE! For more
  on NICKODEMUS, please visit: www.nickodemus.com , www.wonderwheelreco
 rdings.com, www.eslmusic.com\n\nTHE SPY FROM CAIRO--aka Moreno Visini,
  the artist formerly known as Zeb--has written hundreds of songs and p
 roduced over 10 albums over the past 12 years including five Organic G
 rooves albums, three Zeb albums, and two The Spy From Cairo albums. In
  addition, he has contributed to countless collections, including Turn
 tables on the Hudson and Buddha Bar Compilations. This talented musici
 an and studio wizard has done around 80 to 100 remixes for artists as 
 diverse as Tosca, Billy Holiday, Omar Faruk Tekbilek, Baba Maal, Astor
  Piazolla, Nickodemus, Novalima & many more. No wonder he is secretly 
 famous! His latest album, Secretly Famous is an effort by The Spy from
  Cairo to consolidate as much Middle Eastern music as possible, all wi
 th his signature Afro, Dub, electronic sounds. For more on The spy fro
 m Cairo, please visit: http://www.myspace.com/zebthespyfromcairo, http
 ://www.discogs.com/artist/Zeb\n\nMore information here: http://www.dub
 missionsf.com\n\nFor more information visit http://trueskool.com/event
 s/dub-mission-presents-1
DTSTART;TZID=America/Los_Angeles:20100530T210000
DTEND;TZID=America/Los_Angeles:20100531T020000
CATEGORIES:dancehall, reggae, dubstep, world, electronic, dj, live, sa
 n, francisco, dance
LOCATION:Elbo Room
WEBSITE:http://www.elbo.com
URL:http://www.elbo.com
CONTACT:415-552-7788
ORGANIZER;CN="DJ SEP":http://trueskool.com/profile/DJSEP
ATTACH;FMTTYPE="image/jpeg":http://storage.ning.com/topology/rest/1.0/
 file/get/2247879688?profile=original
ATTENDEE;ROLE=REQ-PARTICIPANT;PARTSTAT=ACCEPTED;RSVP=TRUE;CN="DJ SEP":
 http://trueskool.com/profile/DJSEP
END:VEVENT
END:VCALENDAR
