BEGIN:VCALENDAR
PRODID:NingEventWidget-v1
VERSION:2.0
METHOD:PUBLISH
BEGIN:VTIMEZONE
TZID:America/Los_Angeles
X-LIC-LOCATION:America/Los_Angeles
BEGIN:DAYLIGHT
TZOFFSETFROM:-0800
TZOFFSETTO:-0700
TZNAME:PDT
DTSTART:19700308T020000
RRULE:FREQ=YEARLY;BYMONTH=3;BYDAY=2SU
END:DAYLIGHT
BEGIN:STANDARD
TZOFFSETFROM:-0700
TZOFFSETTO:-0800
TZNAME:PST
DTSTART:19701101T020000
RRULE:FREQ=YEARLY;BYMONTH=11;BYDAY=1SU
END:STANDARD
END:VTIMEZONE
BEGIN:VEVENT
UID:1464587:Event:634481
DTSTAMP:20260421T150753Z
SUMMARY:Dream Day 2015
DESCRIPTION:The TDK Crew & NvrOvr are proud to present:\n\nDream Day 2
 015\nSaturday Aug. 15, 2015\n1pm-7pm\nGreenPeace Yards\n955 7th St. Oa
 kland, Ca\n\nThis event celebrates the life & legacy of Mike \"Dream\"
  Francisco.\" Â August 15th is Mike Dream's Birthday.\n\n- Live Painti
 ng by TDK Crew!\n- Live performances by:\nÂ  Equipto\nÂ  Nump Trump\nÂ
   Angor Republic Â \nÂ  L*Roneous & 2Bers\nÂ  and more!\n\nLive Dance 
 Cypher hosted by KNT Knuckle Neck Tribe.\nPlus some of the best Bay Ar
 ea DJ's & artists will gather to pay tribute to Oakland's beloved Writ
 ing King and Oakland Town legend, Mike \"Dream\" Francisco.\nRecognize
 d world wide as a style master, Dream's Writing established the visual
  aesthetic of Oakland's Hip-Hop Culture, and put the Town on the map i
 n what is now the fastest growing art movement in human history.\nAll 
 proceeds will benefit the Dream book fund & the Dream legacy fund for 
 his son Akil Francisco, who is now 16 years old.\nIf you are unable to
  attend and wish to support, please make checks out to The Dream Legac
 y Fund or Akil Francisco.\nChecks can be mailed to:\nIrene Francisco-A
 ncheta\n427 Central Ave\nAlameda, CA 94501\n\nFor more information vis
 it http://trueskool.com/events/dream-day-2015
DTSTART;TZID=America/Los_Angeles:20150815T130000
DTEND;TZID=America/Los_Angeles:20150815T190000
CATEGORIES:oakland, bay, area, graffiti, dream, mikedream, streetart, 
 westoakland
LOCATION:GreenPeace Yards, Oakland
WEBSITE:https://www.google.com/maps/place/955+7th+St,+Oakland,+CA+9460
 7/@37.802691,-122.28452,17z/data=!3m1!4b1!4m2!3m1!1s0x808f80bce80a579f
 :0xb199f70983b5803f
URL:https://www.google.com/maps/place/955+7th+St,+Oakland,+CA+94607/@3
 7.802691,-122.28452,17z/data=!3m1!4b1!4m2!3m1!1s0x808f80bce80a579f:0xb
 199f70983b5803f
CONTACT:
ORGANIZER:John Francisco & Marty Arynado - TDK Crew
ATTACH;FMTTYPE="image/jpeg":http://storage.ning.com/topology/rest/1.0/
 file/get/2247978504?profile=original
ATTENDEE;ROLE=REQ-PARTICIPANT;PARTSTAT=ACCEPTED;RSVP=TRUE;CN=Bam:http:
 //trueskool.com/profile/Bam
END:VEVENT
END:VCALENDAR
