BEGIN:VCALENDAR
PRODID:NingEventWidget-v1
VERSION:2.0
METHOD:PUBLISH
BEGIN:VTIMEZONE
TZID:America/Los_Angeles
X-LIC-LOCATION:America/Los_Angeles
BEGIN:DAYLIGHT
TZOFFSETFROM:-0800
TZOFFSETTO:-0700
TZNAME:PDT
DTSTART:19700308T020000
RRULE:FREQ=YEARLY;BYMONTH=3;BYDAY=2SU
END:DAYLIGHT
BEGIN:STANDARD
TZOFFSETFROM:-0700
TZOFFSETTO:-0800
TZNAME:PST
DTSTART:19701101T020000
RRULE:FREQ=YEARLY;BYMONTH=11;BYDAY=1SU
END:STANDARD
END:VTIMEZONE
BEGIN:VEVENT
UID:1464587:Event:549767
DTSTAMP:20260420T214306Z
SUMMARY:Dre Day SF
DESCRIPTION:It's that time of year.  Let's celebrate the birthday of 
 that funky doctor.\n\nDJ's HoneyKnuckles, Phleck, and Alarm playing th
 e choicest Dr Dre cuts and samples all night.\nWhen: 9PM-2AM\n\nWhere:
 \nMadrone Art Bar\n500 Divisadero St @ Fell\nSan Francisco, CA 94117\n
 \n$5 at the door\n\nFor more information visit http://trueskool.com/ev
 ents/dre-day-sf
DTSTART;TZID=America/Los_Angeles:20150228T210000
DTEND;TZID=America/Los_Angeles:20150301T020000
CATEGORIES:"san francisco", california, "bay area"
LOCATION:Madrone Art Bar, San Francisco, California
WEBSITE:http://$5 at the door
URL:http://$5 at the door
CONTACT:
ORGANIZER;CN="Derek Yuan":http://trueskool.com/profile/DerekYuan
ATTACH;FMTTYPE="image/jpeg":http://storage.ning.com/topology/rest/1.0/
 file/get/2247973043?profile=original
ATTENDEE;ROLE=REQ-PARTICIPANT;PARTSTAT=ACCEPTED;RSVP=TRUE;CN="Derek Yu
 an":http://trueskool.com/profile/DerekYuan
END:VEVENT
END:VCALENDAR
