BEGIN:VCALENDAR
PRODID:NingEventWidget-v1
VERSION:2.0
METHOD:PUBLISH
BEGIN:VTIMEZONE
TZID:America/Los_Angeles
X-LIC-LOCATION:America/Los_Angeles
BEGIN:DAYLIGHT
TZOFFSETFROM:-0800
TZOFFSETTO:-0700
TZNAME:PDT
DTSTART:19700308T020000
RRULE:FREQ=YEARLY;BYMONTH=3;BYDAY=2SU
END:DAYLIGHT
BEGIN:STANDARD
TZOFFSETFROM:-0700
TZOFFSETTO:-0800
TZNAME:PST
DTSTART:19701101T020000
RRULE:FREQ=YEARLY;BYMONTH=11;BYDAY=1SU
END:STANDARD
END:VTIMEZONE
BEGIN:VEVENT
UID:1464587:Event:837486
DTSTAMP:20260424T015833Z
SUMMARY:DOUG E. FRESH
DESCRIPTION:DOUG E. FRESH\r\nAUGUST 8, 2025 DOORS: 7:30PM / SHOW: 8:00
 PM\r\nAUGUST 8, 2025 DOORS: 9:45 PM / SHOW: 10:00 PM\r\nAUGUST 9, 2025
  DOORS: 7:00 PM / SHOW: 7:30 PM\r\nAUGUST 9, 2025 DOORS: 9:15 PM / SHO
 W: 9:30 PM\r\nYoshi's 510 Embarcadero West, Oakland, CA 94607\n\nFor m
 ore information visit http://trueskool.com/events/doug-e-fresh-1
DTSTART;TZID=America/Los_Angeles:20250808T200000
DTEND;TZID=America/Los_Angeles:20250809T233000
CATEGORIES:"bay area", oakland, "san francisco", "san jose", berkeley
LOCATION:YOSHI'S, OAKLAND
WEBSITE:https://yoshis.com/events/buy-tickets/doug-e-fresh-4/detail
URL:https://yoshis.com/events/buy-tickets/doug-e-fresh-4/detail
CONTACT:
ORGANIZER;CN="Editor's Pick":http://trueskool.com/profile/RentheVinylA
 rchaeologist
ATTACH;FMTTYPE="image/jpeg":https://storage.ning.com/topology/rest/1.0
 /file/get/13590954896?profile=original
ATTENDEE;ROLE=REQ-PARTICIPANT;PARTSTAT=ACCEPTED;RSVP=TRUE;CN="Editor's
  Pick":http://trueskool.com/profile/RentheVinylArchaeologist
END:VEVENT
END:VCALENDAR
