BEGIN:VCALENDAR
PRODID:NingEventWidget-v1
VERSION:2.0
METHOD:PUBLISH
BEGIN:VTIMEZONE
TZID:America/Los_Angeles
X-LIC-LOCATION:America/Los_Angeles
BEGIN:DAYLIGHT
TZOFFSETFROM:-0800
TZOFFSETTO:-0700
TZNAME:PDT
DTSTART:19700308T020000
RRULE:FREQ=YEARLY;BYMONTH=3;BYDAY=2SU
END:DAYLIGHT
BEGIN:STANDARD
TZOFFSETFROM:-0700
TZOFFSETTO:-0800
TZNAME:PST
DTSTART:19701101T020000
RRULE:FREQ=YEARLY;BYMONTH=11;BYDAY=1SU
END:STANDARD
END:VTIMEZONE
BEGIN:VEVENT
UID:1464587:Event:335335
DTSTAMP:20260421T021723Z
SUMMARY:Double Trouble w/ DJ4AM, Marloca and special guest DJ Lucy!
DESCRIPTION:Tuesday, April 8thDouble TroubleSpecial Guest: DJ Lucy!DJ 
 Marloca and DJ 4AM plus monthly guests funkin everything up! We might 
 be playin some new wave, post-punk, alternative, funk, soul, hip hop, 
 downtempo, old school, reggae, oldies or whatever else we think is gre
 at. Come listen! Double Trouble is every 2nd and 3rd Tuesday of the m
 onth at Delirium. Delirium3139 16th Street (btw. Valencia and Guerre
 ro)10pm - 2amno coverAudio previews of previous Double Troubles - -DJ 
 4AM mixes live at Delirium:http://www.mixcrate.com/dj4amhttp://www.mix
 cloud.com/DJ4AM/DJ Marloca mixes live at Delirium:http://www.mixcloud.
 com/marloca/\n\nFor more information visit http://trueskool.com/events
 /double-trouble-w-dj4am-marloca-and-special-guest-dj-lucy
DTSTART;TZID=America/Los_Angeles:20140408T220000
DTEND;TZID=America/Los_Angeles:20140409T020000
CATEGORIES:san, francisco, bay, area, mission, marloca, dj4am, dj, luc
 y, delirium
LOCATION:Delirium, san francisco, ca
WEBSITE:http://www.facebook.com/events/640991752617430/
URL:http://www.facebook.com/events/640991752617430/
CONTACT:
ORGANIZER;CN=DJ4AM:http://trueskool.com/profile/DJ4AM
ATTACH;FMTTYPE="image/jpeg":http://storage.ning.com/topology/rest/1.0/
 file/get/2247959395?profile=original
ATTENDEE;ROLE=REQ-PARTICIPANT;PARTSTAT=ACCEPTED;RSVP=TRUE;CN="lucy im"
 :http://trueskool.com/profile/lucyim
ATTENDEE;ROLE=REQ-PARTICIPANT;PARTSTAT=ACCEPTED;RSVP=TRUE;CN=DJ4AM:htt
 p://trueskool.com/profile/DJ4AM
END:VEVENT
END:VCALENDAR
