BEGIN:VCALENDAR
PRODID:NingEventWidget-v1
VERSION:2.0
METHOD:PUBLISH
BEGIN:VTIMEZONE
TZID:America/Los_Angeles
X-LIC-LOCATION:America/Los_Angeles
BEGIN:DAYLIGHT
TZOFFSETFROM:-0800
TZOFFSETTO:-0700
TZNAME:PDT
DTSTART:19700308T020000
RRULE:FREQ=YEARLY;BYMONTH=3;BYDAY=2SU
END:DAYLIGHT
BEGIN:STANDARD
TZOFFSETFROM:-0700
TZOFFSETTO:-0800
TZNAME:PST
DTSTART:19701101T020000
RRULE:FREQ=YEARLY;BYMONTH=11;BYDAY=1SU
END:STANDARD
END:VTIMEZONE
BEGIN:VEVENT
UID:1464587:Event:336207
DTSTAMP:20260421T021651Z
SUMMARY:Double Trouble w/ DJ Marloca & DJ4AM, special guests DJ's Geor
 ge Blenda & Yoko!
DESCRIPTION:Tuesday, April 15thDouble TroubleSpecial Guest DJ's Georg
 e Blenda & Yoko!DJ Marloca and DJ 4AM plus monthly guests funkin every
 thing up! We might be playin' some new wave, post-punk, alternative, f
 unk, soul, hip hop, downtempo, old school, rocksteady, psych**, and ol
 dies or whatever else we think is great. Come listen! Double Trouble i
 s every 2nd and 3rd Tuesday of the month at Delirium. Delirium3139 1
 6th Street (btw. Valencia and Guerrero)10pm - 2amno coverAudio preview
 s of previous Double Troubles - -DJ 4AM mixes live at Delirium:http://
 www.mixcrate.com/dj4amhttp://www.mixcloud.com/DJ4AM/DJ Marloca mixes l
 ive at Delirium:http://www.mixcloud.com/marloca/\n\nFor more informati
 on visit http://trueskool.com/events/double-trouble-w-dj-marloca-dj4am
 -special-guests-dj-s-george
DTSTART;TZID=America/Los_Angeles:20140415T220000
DTEND;TZID=America/Los_Angeles:20140416T020000
CATEGORIES:dancehall, reggae, hip-hop, new, wave, funk, punk, dj4am, m
 arloca, sf, bay, area, mission, delirium, dive, bar
LOCATION:san francisco
WEBSITE:http://www.yelp.com/biz/delirium-san-francisco
URL:http://www.yelp.com/biz/delirium-san-francisco
CONTACT:(415) 552-5525
ORGANIZER;CN=DJ4AM:http://trueskool.com/profile/DJ4AM
ATTACH;FMTTYPE="image/jpeg":http://storage.ning.com/topology/rest/1.0/
 file/get/2247959395?profile=original
ATTENDEE;ROLE=REQ-PARTICIPANT;PARTSTAT=ACCEPTED;RSVP=TRUE;CN=DJ4AM:htt
 p://trueskool.com/profile/DJ4AM
END:VEVENT
END:VCALENDAR
