BEGIN:VCALENDAR
PRODID:NingEventWidget-v1
VERSION:2.0
METHOD:PUBLISH
BEGIN:VTIMEZONE
TZID:America/Los_Angeles
X-LIC-LOCATION:America/Los_Angeles
BEGIN:DAYLIGHT
TZOFFSETFROM:-0800
TZOFFSETTO:-0700
TZNAME:PDT
DTSTART:19700308T020000
RRULE:FREQ=YEARLY;BYMONTH=3;BYDAY=2SU
END:DAYLIGHT
BEGIN:STANDARD
TZOFFSETFROM:-0700
TZOFFSETTO:-0800
TZNAME:PST
DTSTART:19701101T020000
RRULE:FREQ=YEARLY;BYMONTH=11;BYDAY=1SU
END:STANDARD
END:VTIMEZONE
BEGIN:VEVENT
UID:1464587:Event:627994
DTSTAMP:20260422T032400Z
SUMMARY:Double Dutchin'--Hybrid-Healthy HipHop is HELLA [10^27] FUN!
DESCRIPTION:This  + This = Double Dutchin’—Healthy-Hybrid HIPH
 OP is Hella [1027] FUN! \n\nOn Saturday, 22 August 2015, we are addi
 ng another dimension to the physical element of HIPHOP that focuses on
  fitness & health for ALL AGES, ALL ABILITIES that we call Double D
 utchin’—Healthy-Hybrid HIPHOP is HELLA [1027] FUN! \n \nWe let y
 ou make it your own by joining lively, hybrid, healthy activities at t
 he first ever Double Dutchin’—\n\nDutch Jump Rope [THE CONNECTOR]
 \nBreakdancing\nSkateboarding\nRollerblading\nScooter Tricks\n\nthat i
 ncludes a line-up of Dutch DJs hailing from Groningen, and 2015's Tou
 r de France Opening Ceremonies DJs from Utrecht, The Netherlands! \n
 \nThis ALL DAY event of a HOT MESS OF HIJINX-HELLA [1027] FUN is goi
 ng to be at Town Park Skate Park in W. Oakland, which is currently i
 n the throes of getting it's second face lift thanks to Levis. We aim
  to establish some Guinness Book of World Records benchmarks at this
  event, too! \n\nGo see here: http://www.doubledutchin.com/ - Click
  thru!\n\nCOME OUT & PLAY!\n\nFor more information visit http://truesk
 ool.com/events/double-dutchin-hybrid-healthy-hiphop-is-hella-10-27-fun
DTSTART;TZID=America/Los_Angeles:20150822T000000
DTEND;TZID=America/Los_Angeles:20150822T235900
CATEGORIES:oakland, "town park skate park"
LOCATION:Town Park Skate Park | DeFremery Park, Oakland, CA
WEBSITE:http://www.doubledutchin.com/
URL:http://www.doubledutchin.com/
CONTACT:415-832-9084
ORGANIZER:Kim(gerly) @ Beatsforsale.com
ATTACH;FMTTYPE="image/jpeg":http://storage.ning.com/topology/rest/1.0/
 file/get/2247977650?profile=original
ATTENDEE;ROLE=REQ-PARTICIPANT;PARTSTAT=ACCEPTED;RSVP=TRUE;CN=Kimgerly:
 http://trueskool.com/profile/Kimgerly
END:VEVENT
END:VCALENDAR
