BEGIN:VCALENDAR
PRODID:NingEventWidget-v1
VERSION:2.0
METHOD:PUBLISH
BEGIN:VTIMEZONE
TZID:America/Los_Angeles
X-LIC-LOCATION:America/Los_Angeles
BEGIN:DAYLIGHT
TZOFFSETFROM:-0800
TZOFFSETTO:-0700
TZNAME:PDT
DTSTART:19700308T020000
RRULE:FREQ=YEARLY;BYMONTH=3;BYDAY=2SU
END:DAYLIGHT
BEGIN:STANDARD
TZOFFSETFROM:-0700
TZOFFSETTO:-0800
TZNAME:PST
DTSTART:19701101T020000
RRULE:FREQ=YEARLY;BYMONTH=11;BYDAY=1SU
END:STANDARD
END:VTIMEZONE
BEGIN:VEVENT
UID:1464587:Event:290243
DTSTAMP:20260420T214702Z
SUMMARY:Don Carlos and the Reggae Angels
DESCRIPTION:https://www.facebook.com/events/1430964567117385/?ref_news
 feed_story_type=regular\n\nFor more information visit http://trueskool
 .com/events/don-carlos-and-the-reggae-angels
DTSTART;TZID=America/Los_Angeles:20140104T213000
DTEND;TZID=America/Los_Angeles:20140105T020000
CATEGORIES:"bay area", berkeley, oakland, reggae, "roots reggae"
LOCATION:Ashkenaz, Berkeley CA
WEBSITE:https://www.facebook.com/events/1430964567117385/?ref_newsfeed
 _story_type=regular
URL:https://www.facebook.com/events/1430964567117385/?ref_newsfeed_sto
 ry_type=regular
CONTACT:
ORGANIZER;CN="Mary Stone":http://trueskool.com/profile/MaryStone
ATTACH;FMTTYPE="image/jpeg":http://storage.ning.com/topology/rest/1.0/
 file/get/2247956796?profile=original
ATTENDEE;ROLE=REQ-PARTICIPANT;PARTSTAT=ACCEPTED;RSVP=TRUE;CN="Mary Sto
 ne":http://trueskool.com/profile/MaryStone
END:VEVENT
END:VCALENDAR
