BEGIN:VCALENDAR
PRODID:NingEventWidget-v1
VERSION:2.0
METHOD:PUBLISH
BEGIN:VTIMEZONE
TZID:America/Los_Angeles
X-LIC-LOCATION:America/Los_Angeles
BEGIN:DAYLIGHT
TZOFFSETFROM:-0800
TZOFFSETTO:-0700
TZNAME:PDT
DTSTART:19700308T020000
RRULE:FREQ=YEARLY;BYMONTH=3;BYDAY=2SU
END:DAYLIGHT
BEGIN:STANDARD
TZOFFSETFROM:-0700
TZOFFSETTO:-0800
TZNAME:PST
DTSTART:19701101T020000
RRULE:FREQ=YEARLY;BYMONTH=11;BYDAY=1SU
END:STANDARD
END:VTIMEZONE
BEGIN:VEVENT
UID:1464587:Event:333154
DTSTAMP:20260421T021139Z
SUMMARY:DJLAZYBOY'S BIRTHDAY BASH feat. DJ SHORTKUT
DESCRIPTION:DJ SHORTKUT of the World Famous BEAT JUNKIES, INVISIBL SKR
 ATCH PIKLZ, TRIPLE THREAT DJS makes his SANTA ROSA debut THIS SATURDAY
  @ REMY'S LOUNGE for DJLAZYBOY'S BIRTHDAY BASH!!!There will be:FOODFUL
 L BARCAKE(?)GAMES (including a turntable pinata filled with dj goodies
 )DJ BESET/DJLAZYBOY/DJ SHORTKUTPLAYING THE JAMZ ALL NIGHT!!!$10 GIRLS
  FREE BEFORE 11PM\n\nFor more information visit http://trueskool.com/e
 vents/djlazyboy-s-birthday-bash-feat-dj-shortkut
DTSTART;TZID=America/Los_Angeles:20140405T210000
DTEND;TZID=America/Los_Angeles:20140406T020000
CATEGORIES:santa, rosa, ca, "bay area"
LOCATION:Santa Rosa, CA
WEBSITE:http://$10 at the door/Girls free before 11pm https://www.goog
 le.com/url?sa=D&oi=plus&q=https://maps.google.com/maps?expflags%3Denab
 le_star_based_justifications:true%26ie%3DUTF8%26cid%3D8759400080093154
 986%26q%3DRemy%27s%2BBar%2B%2526%2BGrill%26iwloc%3DA%26gl%3DUS%26hl%3D
 en
URL:http://$10 at the door/Girls free before 11pm https://www.google.c
 om/url?sa=D&oi=plus&q=https://maps.google.com/maps?expflags%3Denable_s
 tar_based_justifications:true%26ie%3DUTF8%26cid%3D8759400080093154986%
 26q%3DRemy%27s%2BBar%2B%2526%2BGrill%26iwloc%3DA%26gl%3DUS%26hl%3Den
CONTACT:(707) 548 3054
ORGANIZER;CN="Gregory Sherrell":http://trueskool.com/profile/GregorySh
 errell
ATTACH;FMTTYPE="image/jpeg":http://storage.ning.com/topology/rest/1.0/
 file/get/2247960678?profile=original
ATTENDEE;ROLE=REQ-PARTICIPANT;PARTSTAT=ACCEPTED;RSVP=TRUE;CN="Gregory 
 Sherrell":http://trueskool.com/profile/GregorySherrell
END:VEVENT
END:VCALENDAR
