BEGIN:VCALENDAR
PRODID:NingEventWidget-v1
VERSION:2.0
METHOD:PUBLISH
BEGIN:VTIMEZONE
TZID:America/Los_Angeles
X-LIC-LOCATION:America/Los_Angeles
BEGIN:DAYLIGHT
TZOFFSETFROM:-0800
TZOFFSETTO:-0700
TZNAME:PDT
DTSTART:19700308T020000
RRULE:FREQ=YEARLY;BYMONTH=3;BYDAY=2SU
END:DAYLIGHT
BEGIN:STANDARD
TZOFFSETFROM:-0700
TZOFFSETTO:-0800
TZNAME:PST
DTSTART:19701101T020000
RRULE:FREQ=YEARLY;BYMONTH=11;BYDAY=1SU
END:STANDARD
END:VTIMEZONE
BEGIN:VEVENT
UID:1464587:Event:335471
DTSTAMP:20260420T234726Z
SUMMARY:DJ4AM @ Cantina!
DESCRIPTION:DJ4AM plays an eclectic mix of booty shakin' treats and lo
 unge shenanigans.\n\nFor more information visit http://trueskool.com/e
 vents/dj4am-cantina
DTSTART;TZID=America/Los_Angeles:20140418T220000
DTEND;TZID=America/Los_Angeles:20140419T020000
CATEGORIES:dj4am, san, francisco, bay, area, tl, hip-hop, soul, funk, 
 edits, boogie, remixes, trip-hop
LOCATION:Cantina, san francisco, ca
WEBSITE:http://www.cantinasf.com/
URL:http://www.cantinasf.com/
CONTACT:
ORGANIZER;CN=DJ4AM:http://trueskool.com/profile/DJ4AM
ATTACH;FMTTYPE="image/jpeg":http://storage.ning.com/topology/rest/1.0/
 file/get/2247961891?profile=original
ATTENDEE;ROLE=REQ-PARTICIPANT;PARTSTAT=ACCEPTED;RSVP=TRUE;CN=DJ4AM:htt
 p://trueskool.com/profile/DJ4AM
END:VEVENT
END:VCALENDAR
