BEGIN:VCALENDAR
PRODID:NingEventWidget-v1
VERSION:2.0
METHOD:PUBLISH
BEGIN:VTIMEZONE
TZID:America/Los_Angeles
X-LIC-LOCATION:America/Los_Angeles
BEGIN:DAYLIGHT
TZOFFSETFROM:-0800
TZOFFSETTO:-0700
TZNAME:PDT
DTSTART:19700308T020000
RRULE:FREQ=YEARLY;BYMONTH=3;BYDAY=2SU
END:DAYLIGHT
BEGIN:STANDARD
TZOFFSETFROM:-0700
TZOFFSETTO:-0800
TZNAME:PST
DTSTART:19701101T020000
RRULE:FREQ=YEARLY;BYMONTH=11;BYDAY=1SU
END:STANDARD
END:VTIMEZONE
BEGIN:VEVENT
UID:1464587:Event:131525
DTSTAMP:20260419T142619Z
SUMMARY:DJ SPINNA feat thePEOPLE hosted by BANANAS Inc. at 330 RITCH
DESCRIPTION:\n \nthePeople & 330 Ritch present  DJ SPINNA (Wonder-Ful
 l, NY)  + thePEOPLE Djs CECIL & CALI  Hosted by\nBANANAS Inc.\n aka Am
 y Nabong & Jenn Martinez  330 RITCH\nIn SF's SOMA district 10pm-2am | 
 21+ | $15  Discount $5 & $10 Tickets Available at: djspinna330.eventbr
 ite.com\n \nPlease support us by RSVP'ing on FACEBOOK:\nhttps://www.f
 acebook.com/events/477597745593049/\n Join us as DJ SPINNA touches dow
 n at 330 Ritch with special guests thePEOPLE DJs Cecil & Cali, on Frid
 ay September 28!\nYou may know him for his incredible mixing of Stevie
  Wonder originals, covers & samples at the WONDER-FULL parties, or for
  his uncomparable mixing of Michael Jackson & Prince, but DJ Spinna is
  known to be one of the best DJs because he can impecably freak so man
 y different styles. Joined by thePEOPLE, expect DJ Spinna to play a he
 avily HOUSE music mix, with heavy tinges of SOUL, AFRO-BEAT, FUNK, BRA
 ZILIAN, HIP-HOP & MORE!\n\nFor more information visit http://trueskool
 .com/events/dj-spinna-feat-thepeople-hosted-by-bananas-inc-at-330-ritc
 h
DTSTART;TZID=America/Los_Angeles:20120928T220000
DTEND;TZID=America/Los_Angeles:20120929T020000
CATEGORIES:san, "francisco/california", "bay area", "san francisco", o
 akland, berkeley
LOCATION:330 RITCH, San Francisco
WEBSITE:http://djspinna330.eventbrite.com/
URL:http://djspinna330.eventbrite.com/
CONTACT:
ORGANIZER;CN="Hakobo fresco":http://trueskool.com/profile/Hakobo
ATTACH;FMTTYPE="image/jpeg":http://storage.ning.com/topology/rest/1.0/
 file/get/2247924138?profile=original
ATTENDEE;ROLE=REQ-PARTICIPANT;PARTSTAT=ACCEPTED;RSVP=TRUE;CN="Hakobo f
 resco":http://trueskool.com/profile/Hakobo
END:VEVENT
END:VCALENDAR
