BEGIN:VCALENDAR
PRODID:NingEventWidget-v1
VERSION:2.0
METHOD:PUBLISH
BEGIN:VTIMEZONE
TZID:America/Los_Angeles
X-LIC-LOCATION:America/Los_Angeles
BEGIN:DAYLIGHT
TZOFFSETFROM:-0800
TZOFFSETTO:-0700
TZNAME:PDT
DTSTART:19700308T020000
RRULE:FREQ=YEARLY;BYMONTH=3;BYDAY=2SU
END:DAYLIGHT
BEGIN:STANDARD
TZOFFSETFROM:-0700
TZOFFSETTO:-0800
TZNAME:PST
DTSTART:19701101T020000
RRULE:FREQ=YEARLY;BYMONTH=11;BYDAY=1SU
END:STANDARD
END:VTIMEZONE
BEGIN:VEVENT
UID:1464587:Event:80335
DTSTAMP:20260420T150450Z
SUMMARY:DJ Quik CD-Release Party (LOS ANGELES)
DESCRIPTION:DJ Quik CD-Release Party\nKey Club\nWest Hollywood, CAWed,
  Apr 20, 2011 08:00 PM\n\n\n \n\nFor more information visit http://tr
 ueskool.com/events/dj-quik-cdrelease-party-los
DTSTART;TZID=America/Los_Angeles:20110420T200000
DTEND;TZID=America/Los_Angeles:20110420T230000
CATEGORIES:la, "los angeles", ca
LOCATION:Key Club, West Hollywood, CA
WEBSITE:http://www.ticketmaster.com/event/0900465790963D7B?artistid=76
 8266&majorcatid=10001&minorcatid=3
URL:http://www.ticketmaster.com/event/0900465790963D7B?artistid=768266
 &majorcatid=10001&minorcatid=3
CONTACT:
ORGANIZER;CN="Editor's Pick":http://trueskool.com/profile/RentheVinylA
 rchaeologist
ATTACH;FMTTYPE="image/jpeg":http://storage.ning.com/topology/rest/1.0/
 file/get/2247893542?profile=original
ATTENDEE;ROLE=REQ-PARTICIPANT;PARTSTAT=ACCEPTED;RSVP=TRUE;CN="Editor's
  Pick":http://trueskool.com/profile/RentheVinylArchaeologist
END:VEVENT
END:VCALENDAR
