BEGIN:VCALENDAR
PRODID:NingEventWidget-v1
VERSION:2.0
METHOD:PUBLISH
BEGIN:VTIMEZONE
TZID:America/Los_Angeles
X-LIC-LOCATION:America/Los_Angeles
BEGIN:DAYLIGHT
TZOFFSETFROM:-0800
TZOFFSETTO:-0700
TZNAME:PDT
DTSTART:19700308T020000
RRULE:FREQ=YEARLY;BYMONTH=3;BYDAY=2SU
END:DAYLIGHT
BEGIN:STANDARD
TZOFFSETFROM:-0700
TZOFFSETTO:-0800
TZNAME:PST
DTSTART:19701101T020000
RRULE:FREQ=YEARLY;BYMONTH=11;BYDAY=1SU
END:STANDARD
END:VTIMEZONE
BEGIN:VEVENT
UID:1464587:Event:126654
DTSTAMP:20260420T152334Z
SUMMARY:DJ Premier vs. Pete Rock: The Battle pt. 2
DESCRIPTION:\n\nADV.TIX @ http://thebattle.eventbrite.com/  DJ PREMIE
 R vs. PETE ROCK: THE BATTLE  opening set by DJ APOLLO  hosted by Fran 
 Boogie  MIGHTY is proud to present the return of DJ Premier vs. Pete R
 ock: The Battle, on Friday, September 7th, at 9PM. The two will scrimm
 age head-to-head in a classic DJ battle with two adjacent DJ setups. B
 ay area staple and world-renowned DJ Apollo will be holding down the o
 pening slot with Fran Boogie hosting the event. Advance tickets are on
  sale now at eventbrite.com/thebattle.   Perhaps Hip Hop’s most res
 pected producers, the New York based DJ Premier and Pete Rock have bee
 n releasing classic material for 20+ years. Premier’s Gangstarr rele
 ases, with partner Guru, were instrumental to the culture, not to ment
 ion his collaborations with Jay-Z, Notorious BIG, Nas, Rakim, Big L an
 d KRS-ONE to name just a few. Pete Rock’s release with partner CL Sm
 ooth, Mecca and The Soul brother, is critically acclaimed and birthed 
 classic tracks such as “They Reminisce Over You (T.R.O.Y.)” and 
 Straighten it out”. Pete Rock has collaborated with a slew of Hip H
 op’s elite including Nas, Slum Village, A Tribe Called Quest, Slick 
 Rick, Talib Kweli and Run DMC, and the list goes on and on.  Discount 
 tickets may be purchased at www.thebattle.eventbrite.com. MIGHTY’s 
 doors open at 9pm, presale ticket purchase and early arrival are highl
 y encouraged. For additional show information, call 415-626-7001.  All
  events at MIGHTY are 21+\n\nFor more information visit http://truesko
 ol.com/events/dj-premier-vs-pete-rock-the-battle-pt-2
DTSTART;TZID=America/Los_Angeles:20120907T210000
DTEND;TZID=America/Los_Angeles:20120908T020000
CATEGORIES:san, francisco, ca
LOCATION:Mighty, San Francisco
WEBSITE:http://www.mighty119.com
URL:http://www.mighty119.com
CONTACT:
ORGANIZER:Mighty
ATTACH;FMTTYPE="image/jpeg":http://storage.ning.com/topology/rest/1.0/
 file/get/2247918040?profile=original
ATTENDEE;ROLE=REQ-PARTICIPANT;PARTSTAT=ACCEPTED;RSVP=TRUE;CN="Sunissa 
 Forsman":http://trueskool.com/profile/SunissaForsman
ATTENDEE;ROLE=REQ-PARTICIPANT;PARTSTAT=TENTATIVE;RSVP=TRUE;CN="Mark Co
 rdero":http://trueskool.com/profile/MarkRock
END:VEVENT
END:VCALENDAR
