BEGIN:VCALENDAR
PRODID:NingEventWidget-v1
VERSION:2.0
METHOD:PUBLISH
BEGIN:VTIMEZONE
TZID:America/Los_Angeles
X-LIC-LOCATION:America/Los_Angeles
BEGIN:DAYLIGHT
TZOFFSETFROM:-0800
TZOFFSETTO:-0700
TZNAME:PDT
DTSTART:19700308T020000
RRULE:FREQ=YEARLY;BYMONTH=3;BYDAY=2SU
END:DAYLIGHT
BEGIN:STANDARD
TZOFFSETFROM:-0700
TZOFFSETTO:-0800
TZNAME:PST
DTSTART:19701101T020000
RRULE:FREQ=YEARLY;BYMONTH=11;BYDAY=1SU
END:STANDARD
END:VTIMEZONE
BEGIN:VEVENT
UID:1464587:Event:385245
DTSTAMP:20260421T002512Z
SUMMARY:DJ Nu-Mark, Shortkut, Platurn & Saurus at the New Parish Frida
 y July 11th
DESCRIPTION:Quality Control Marketing & Focal Point Present:DJ Nu-M
 ark, Shortkut, Platurn & Saurus! Live at The New ParishDJ NU-MARK Ma
 rk Nu-Mark (Jurassic 5)DJ SHORTKUT Jon Shortkut Cruz (Beat Junkies/
 Triple Threat)DJ PLATURN Deejay Platurnipus (45 Sessions/Oakland Fad
 ers)DJ SAURUS Deejay Saurus (Fader Moves/Blunt Club)Hosted by Fran 
 BoogieFRIDAY JULY 11TH at THE NEW PARISH1743 SAN PABLO AVE (AT 18TH)OA
 KLAND, CA 9461218 AND OVER!TICKETS AVAILABLE NOW HERE: http://www.tic
 ketfly.com/purchase/event/614419JUST $10DOORS AT 8PM, SHOW AT 9PM\n\nF
 or more information visit http://trueskool.com/events/dj-nu-mark-short
 kut-platurn-saurus-at-the-new-parish-friday-july
DTSTART;TZID=America/Los_Angeles:20140711T200000
DTEND;TZID=America/Los_Angeles:20140712T020000
CATEGORIES:the, new, parish, oakland
LOCATION:the new parish oakland
WEBSITE:http://www.ticketfly.com/purchase/event/614419
URL:http://www.ticketfly.com/purchase/event/614419
CONTACT:
ORGANIZER;CN="DJ Platurn":http://trueskool.com/profile/DJPlaturn
ATTACH;FMTTYPE="image/jpeg":http://storage.ning.com/topology/rest/1.0/
 file/get/2247965403?profile=original
ATTENDEE;ROLE=REQ-PARTICIPANT;PARTSTAT=ACCEPTED;RSVP=TRUE;CN="DJ Platu
 rn":http://trueskool.com/profile/DJPlaturn
END:VEVENT
END:VCALENDAR
