BEGIN:VCALENDAR
PRODID:NingEventWidget-v1
VERSION:2.0
METHOD:PUBLISH
BEGIN:VTIMEZONE
TZID:America/Los_Angeles
X-LIC-LOCATION:America/Los_Angeles
BEGIN:DAYLIGHT
TZOFFSETFROM:-0800
TZOFFSETTO:-0700
TZNAME:PDT
DTSTART:19700308T020000
RRULE:FREQ=YEARLY;BYMONTH=3;BYDAY=2SU
END:DAYLIGHT
BEGIN:STANDARD
TZOFFSETFROM:-0700
TZOFFSETTO:-0800
TZNAME:PST
DTSTART:19701101T020000
RRULE:FREQ=YEARLY;BYMONTH=11;BYDAY=1SU
END:STANDARD
END:VTIMEZONE
BEGIN:VEVENT
UID:1464587:Event:653806
DTSTAMP:20260420T115821Z
SUMMARY:Dizzy Wright - Still Movin Tour 2016
DESCRIPTION:The New Parish 579 18th StOakland, CA, 94612\nThursday Sep
 t. 29\nDoors 8:00 PM / Show 9:00 PM (event ends at 1:00 AM)\nThis even
 t is all ages\n\nFor more information visit http://trueskool.com/event
 s/dizzy-wright-still-movin-tour-2016
DTSTART;TZID=America/Los_Angeles:20160929T210000
DTEND;TZID=America/Los_Angeles:20160930T010000
CATEGORIES:"san francisco", oakland, berkley, "san jose", "bay area"
LOCATION:The New Parish, Oakland
WEBSITE:https://www.ticketfly.com/purchase/event/1287589/tfly
URL:https://www.ticketfly.com/purchase/event/1287589/tfly
CONTACT:
ORGANIZER;CN="Editor's Pick":http://trueskool.com/profile/RentheVinylA
 rchaeologist
ATTACH;FMTTYPE="image/jpeg":http://storage.ning.com/topology/rest/1.0/
 file/get/2247991092?profile=original
ATTENDEE;ROLE=REQ-PARTICIPANT;PARTSTAT=ACCEPTED;RSVP=TRUE;CN="Editor's
  Pick":http://trueskool.com/profile/RentheVinylArchaeologist
END:VEVENT
END:VCALENDAR
