BEGIN:VCALENDAR
PRODID:NingEventWidget-v1
VERSION:2.0
METHOD:PUBLISH
BEGIN:VTIMEZONE
TZID:America/Los_Angeles
X-LIC-LOCATION:America/Los_Angeles
BEGIN:DAYLIGHT
TZOFFSETFROM:-0800
TZOFFSETTO:-0700
TZNAME:PDT
DTSTART:19700308T020000
RRULE:FREQ=YEARLY;BYMONTH=3;BYDAY=2SU
END:DAYLIGHT
BEGIN:STANDARD
TZOFFSETFROM:-0700
TZOFFSETTO:-0800
TZNAME:PST
DTSTART:19701101T020000
RRULE:FREQ=YEARLY;BYMONTH=11;BYDAY=1SU
END:STANDARD
END:VTIMEZONE
BEGIN:VEVENT
UID:1464587:Event:624923
DTSTAMP:20260421T011531Z
SUMMARY:Divinyl Echo presents: BLESSED 6 Year Anniversary with two of 
 the Bay's house musical treasures:  RUBEN MANCIAS (Devotion - SF, NYC)
   PATRICK WILSON (Nulilfe - SF, Soultogether - London)
DESCRIPTION:Divinyl Echo presents BLESSED 6 Year Anniversary with two
  of the Bay's house musical treasures:RUBEN MANCIAS (Devotion - SF, NY
 C)PATRICK WILSON (Nulilfe - SF, Soultogether - London)Smoothin' out th
 e evening with a soulful variety of the Deep, the Uplifting, the Class
 ic and the Fresh are your BLESSED residents - RAFI ACEVEDO and DISCAY
 A.The essentials:BLESSED - Saturday, April 4, 2015, 9 pm - 2 amYou!Rub
 en Mancias (12:15 - 1:45)Patrick Wilson (10:30 - 12:15)Discaya (9:00 -
  10:30, soul-funk-disco)FREE before 11 pm or with RSVP $5 after 11 pm
 Somar Bar1727 TelegraphOakland, Ca.Resident Soulful Music Selectas:Raf
 i AcevedoDiscayaPast DIVINYL ECHO guest DJs & vocalists:Stephen Rigmai
 denAnthony MansfieldJohana Barahona Trinidadian DeepSelector DJ KirkR
 uben ManciasDavid GoodtimeMauricio AvilesDavid HarnessFranky BoissyNes
 to FuentezPatrick WilsonTeejay WaltonMichelle SanzJayvi VelascoVincent
  KwokRahiem JihadKristine DavaEmily InfanteSoul ProfessAiko (Japan)Rob
  RhythmAce & GunzJulius PappPaolo DavaMKL (NYC)Lito CarrilloDJ SmashSa
 ke OnePete AviladonGuapoDon CrispDJ FfloodNerstylistAebl DeeDeepceeNin
 a SolSobeezeLeonardJere BuiDJ SaidMattskiKincaidRasoulDedanGalenWazirO
 marProofImaniTyrelCaliBLESSED(every first Saturday of the month)'Your 
 soul will thank you for it'Love,Divinyl Echo\n\nFor more information v
 isit http://trueskool.com/events/divinyl-echo-presents-blessed-6-year-
 anniversary-with-two-of-the
DTSTART;TZID=America/Los_Angeles:20150404T210000
DTEND;TZID=America/Los_Angeles:20150405T020000
CATEGORIES:oakland, san, francisco, somar, housemusic, soul, funk, lat
 in, aftro
LOCATION:Somar Bar
WEBSITE:https://www.facebook.com/events/1540783896186597/
URL:https://www.facebook.com/events/1540783896186597/
CONTACT:
ORGANIZER;CN="Rafael Acevedo Jr":http://trueskool.com/profile/RafaelAc
 evedoJr
ATTACH;FMTTYPE="image/jpeg":http://storage.ning.com/topology/rest/1.0/
 file/get/2247975171?profile=original
ATTENDEE;ROLE=REQ-PARTICIPANT;PARTSTAT=ACCEPTED;RSVP=TRUE;CN="Rafael A
 cevedo Jr":http://trueskool.com/profile/RafaelAcevedoJr
END:VEVENT
END:VCALENDAR
