BEGIN:VCALENDAR
PRODID:NingEventWidget-v1
VERSION:2.0
METHOD:PUBLISH
BEGIN:VTIMEZONE
TZID:America/Los_Angeles
X-LIC-LOCATION:America/Los_Angeles
BEGIN:DAYLIGHT
TZOFFSETFROM:-0800
TZOFFSETTO:-0700
TZNAME:PDT
DTSTART:19700308T020000
RRULE:FREQ=YEARLY;BYMONTH=3;BYDAY=2SU
END:DAYLIGHT
BEGIN:STANDARD
TZOFFSETFROM:-0700
TZOFFSETTO:-0800
TZNAME:PST
DTSTART:19701101T020000
RRULE:FREQ=YEARLY;BYMONTH=11;BYDAY=1SU
END:STANDARD
END:VTIMEZONE
BEGIN:VEVENT
UID:1464587:Event:624647
DTSTAMP:20260421T014121Z
SUMMARY:Dissolver
DESCRIPTION:From Dance Magazine's \"25 to Watch\" for 2014 comes\nDi
 ssolver\nFriday and Sunday, May 8th & 10th, 2015\nFriday at 8:30 PM\n
                 Sunday at 3:00 PM, 5:00 PM, 7:00 PM       
                   \nODC Theater’s Studio B, Shotwell Stree
 t (at 17th Street); SF\nTickets $15, General and $12 seniors and stud
 ents available at\nhttp://www.odcdance.org/performance.php?param=262\n
 www.funschdance.org                 415.902.5371\n“
 shadowy, softly ephemeral, full of surprises. It also sparkles with a 
 gentle wit”\n--Rita Felciano, 2014, Dance View\n \nDissolver is F
 unsch Dance Experience’s new full-length work structured as a serie
 s of duets and trios that become subsumed into a group work for seven 
 dancers. Wistful yet sensual, with a hint of humor lurking at its edge
 , Dissolver seamlessly blends everyday gesture and more abstracted m
 ovement in support of its mood. Though partitioned into duets and trio
 s, Dissolver uses the group to fluidly represent one authorial point
  of view.\n\nFor more information visit http://trueskool.com/events/di
 ssolver
DTSTART;TZID=America/Los_Angeles:20150508T203000
DTEND;TZID=America/Los_Angeles:20150508T213000
CATEGORIES:dance, performance, odc, funsch, contemporary, concert, "da
 nce event"
LOCATION:ODC Dance Commons, SF, CA
WEBSITE:http://www.odcdance.org/performance.php?param=262
URL:http://www.odcdance.org/performance.php?param=262
CONTACT:4159025371
ORGANIZER;CN="Christy Funsch":http://trueskool.com/profile/ChristyFuns
 ch
ATTACH;FMTTYPE="image/jpeg":http://storage.ning.com/topology/rest/1.0/
 file/get/2247977059?profile=original
ATTENDEE;ROLE=REQ-PARTICIPANT;PARTSTAT=ACCEPTED;RSVP=TRUE;CN="Christy 
 Funsch":http://trueskool.com/profile/ChristyFunsch
END:VEVENT
END:VCALENDAR
