BEGIN:VCALENDAR
PRODID:NingEventWidget-v1
VERSION:2.0
METHOD:PUBLISH
BEGIN:VTIMEZONE
TZID:America/Los_Angeles
X-LIC-LOCATION:America/Los_Angeles
BEGIN:DAYLIGHT
TZOFFSETFROM:-0800
TZOFFSETTO:-0700
TZNAME:PDT
DTSTART:19700308T020000
RRULE:FREQ=YEARLY;BYMONTH=3;BYDAY=2SU
END:DAYLIGHT
BEGIN:STANDARD
TZOFFSETFROM:-0700
TZOFFSETTO:-0800
TZNAME:PST
DTSTART:19701101T020000
RRULE:FREQ=YEARLY;BYMONTH=11;BYDAY=1SU
END:STANDARD
END:VTIMEZONE
BEGIN:VEVENT
UID:1464587:Event:673555
DTSTAMP:20260421T070114Z
SUMMARY:DIRTY DOZEN BRASS BAND
DESCRIPTION:ENTER TO WIN A PAIR OF TICKETS. WINNER WILL BE DRAWN RANDO
 MLY AND ANNOUNCED 2 DAYS PRIOR TO EVENT.\r\n\r\nWednesday, June 13, 20
 18\r\nDIRTY DOZEN BRASS BAND  Sal’s Greenhouse\r\nThe Independent Sa
 n Francisco, CA Doors: 7:30pm | Show: 8:00pm >> BUY TICKETS\r\n\n\nFor
  more information visit http://trueskool.com/events/dirty-dozen-brass-
 band-2
DTSTART;TZID=America/Los_Angeles:20180613T200000
DTEND;TZID=America/Los_Angeles:20180613T230000
CATEGORIES:"bay area", oakland, "san francisco", "san jose", berkeley
LOCATION:The Independent, San Francisco
WEBSITE:https://www.ticketfly.com/purchase/event/1649872
URL:https://www.ticketfly.com/purchase/event/1649872
CONTACT:
ORGANIZER;CN="Editor's Pick":http://trueskool.com/profile/RentheVinylA
 rchaeologist
ATTACH;FMTTYPE="image/jpeg":http://storage.ning.com/topology/rest/1.0/
 file/get/2248004997?profile=original
ATTENDEE;ROLE=REQ-PARTICIPANT;PARTSTAT=ACCEPTED;RSVP=TRUE;CN="Elisa Bj
 eldanes":http://trueskool.com/profile/ElisaBjeldanes
ATTENDEE;ROLE=REQ-PARTICIPANT;PARTSTAT=ACCEPTED;RSVP=TRUE;CN="Editor's
  Pick":http://trueskool.com/profile/RentheVinylArchaeologist
ATTENDEE;ROLE=REQ-PARTICIPANT;PARTSTAT=TENTATIVE;RSVP=TRUE;CN=strilici
 ous:http://trueskool.com/profile/strilicious
END:VEVENT
END:VCALENDAR
