BEGIN:VCALENDAR
PRODID:NingEventWidget-v1
VERSION:2.0
METHOD:PUBLISH
BEGIN:VTIMEZONE
TZID:America/Los_Angeles
X-LIC-LOCATION:America/Los_Angeles
BEGIN:DAYLIGHT
TZOFFSETFROM:-0800
TZOFFSETTO:-0700
TZNAME:PDT
DTSTART:19700308T020000
RRULE:FREQ=YEARLY;BYMONTH=3;BYDAY=2SU
END:DAYLIGHT
BEGIN:STANDARD
TZOFFSETFROM:-0700
TZOFFSETTO:-0800
TZNAME:PST
DTSTART:19701101T020000
RRULE:FREQ=YEARLY;BYMONTH=11;BYDAY=1SU
END:STANDARD
END:VTIMEZONE
BEGIN:VEVENT
UID:1464587:Event:653592
DTSTAMP:20260420T085105Z
SUMMARY:Direct from Cuba Madera Limpia
DESCRIPTION:San Francisco Bay Area Cuban Festival presents the US prem
 iere of the internationally acclaimed Cuban musical group Madera Limpi
 a. Led by bandleader Yasel Gonzalez Rivera, Madera Limpia merges Afro 
 Cuban and traditional music of its native region—changui, nengon, qu
 iriba, and son—with other music genres like rumba, jazz, reggae, and
  hip hop, to create a unique sound that exhibits the rich roots of Cub
 an music. Madera Limpia tours throughout the world, and has shared the
  stage with many greats, including Oscar de Leon, Los Van Van, Orishas
 , Synthesis, Compay Segundo, Omara Portuondo, and Eliades Ochoa from t
 he Buena Vista Social Club, among others.\nThe San Francisco Bay Area 
 Cuban Festival will also bring to the stage some of world’s greatest
  Master Cuban Artists to perform together for the very first time! Gue
 st artists include the renowned Max Pollak from New York, who joins th
 e show with Rumba Tap, a unique mix of Cuban rhythms, body percussion,
  and tap, as well as the accomplished Cuban artist Ramon Cabrera from 
 Miami, who will perfom Abakua, a music and dance not frequently perfor
 med due to its complexity.\n\nFor more information visit http://truesk
 ool.com/events/direct-from-cuba-madera-limpia
DTSTART;TZID=America/Los_Angeles:20161008T200000
DTEND;TZID=America/Los_Angeles:20161008T220000
CATEGORIES:brava, theater
LOCATION:San Francisco
WEBSITE:http://www.brava.org/current-shows/current-shows/madera-limpia
 /#.V8z13sc6Hww
URL:http://www.brava.org/current-shows/current-shows/madera-limpia/#.V
 8z13sc6Hww
CONTACT:415 947 9729
ORGANIZER:San Francisco Bay Area Cuban Festival
ATTACH;FMTTYPE="image/jpeg":http://storage.ning.com/topology/rest/1.0/
 file/get/2247992370?profile=original
ATTENDEE;ROLE=REQ-PARTICIPANT;PARTSTAT=ACCEPTED;RSVP=TRUE;CN="Manuel S
 uarez":http://trueskool.com/profile/ManuelSuarez
END:VEVENT
END:VCALENDAR
