BEGIN:VCALENDAR
PRODID:NingEventWidget-v1
VERSION:2.0
METHOD:PUBLISH
BEGIN:VTIMEZONE
TZID:America/Los_Angeles
X-LIC-LOCATION:America/Los_Angeles
BEGIN:DAYLIGHT
TZOFFSETFROM:-0800
TZOFFSETTO:-0700
TZNAME:PDT
DTSTART:19700308T020000
RRULE:FREQ=YEARLY;BYMONTH=3;BYDAY=2SU
END:DAYLIGHT
BEGIN:STANDARD
TZOFFSETFROM:-0700
TZOFFSETTO:-0800
TZNAME:PST
DTSTART:19701101T020000
RRULE:FREQ=YEARLY;BYMONTH=11;BYDAY=1SU
END:STANDARD
END:VTIMEZONE
BEGIN:VEVENT
UID:1464587:Event:625277
DTSTAMP:20260421T010853Z
SUMMARY:DILLON FRANCIS
DESCRIPTION:DILLON FRANCIS, NERO (DJ SET) PLUS SPECIAL GUEST BRO SAFAR
 I\nGhastly!, Henry Fong, Hook n Sling, Mord Fustang, Party Favor, Trip
 py Turtle\nFriday-Saturday, April 17-18, 2015\nShow: 7:00PM\n\n290 S 7
 th Street\nSan Jose, CA 95112\n408-924-6360\nEVENT CENTER AT SAN JOSE 
 STATE UNIVERSITY\n\n\nFor more information visit http://trueskool.com/
 events/dillon-francis
DTSTART;TZID=America/Los_Angeles:20150417T190000
DTEND;TZID=America/Los_Angeles:20150418T230000
CATEGORIES:"san francisco", oakland, berkley, "san jose", "bay area"
LOCATION:Event Center At San Jose State University
WEBSITE:http://www.ticketmaster.com/event/1C004E58AB56599E
URL:http://www.ticketmaster.com/event/1C004E58AB56599E
CONTACT:
ORGANIZER;CN="Editor's Pick":http://trueskool.com/profile/RentheVinylA
 rchaeologist
ATTACH;FMTTYPE="image/jpeg":http://storage.ning.com/topology/rest/1.0/
 file/get/2247974970?profile=original
ATTENDEE;ROLE=REQ-PARTICIPANT;PARTSTAT=ACCEPTED;RSVP=TRUE;CN="Editor's
  Pick":http://trueskool.com/profile/RentheVinylArchaeologist
END:VEVENT
END:VCALENDAR
