BEGIN:VCALENDAR
PRODID:NingEventWidget-v1
VERSION:2.0
METHOD:PUBLISH
BEGIN:VTIMEZONE
TZID:America/Los_Angeles
X-LIC-LOCATION:America/Los_Angeles
BEGIN:DAYLIGHT
TZOFFSETFROM:-0800
TZOFFSETTO:-0700
TZNAME:PDT
DTSTART:19700308T020000
RRULE:FREQ=YEARLY;BYMONTH=3;BYDAY=2SU
END:DAYLIGHT
BEGIN:STANDARD
TZOFFSETFROM:-0700
TZOFFSETTO:-0800
TZNAME:PST
DTSTART:19701101T020000
RRULE:FREQ=YEARLY;BYMONTH=11;BYDAY=1SU
END:STANDARD
END:VTIMEZONE
BEGIN:VEVENT
UID:1464587:Event:451585
DTSTAMP:20260420T165919Z
SUMMARY:Dilated Peoples (WIN TICKETS)
DESCRIPTION:  Saturday, December 20  Dilated Peoples\nThe Independent 
 San Francisco, CA Show 9:00PM Purchase tickets\n\nFor more information
  visit http://trueskool.com/events/dilated-peoples-win-tickets
DTSTART;TZID=America/Los_Angeles:20141220T210000
DTEND;TZID=America/Los_Angeles:20141220T230000
CATEGORIES:"bay area", "san francisco"
LOCATION:The Independent, San Francisco
WEBSITE:http://www.ticketfly.com/purchase/event/695729
URL:http://www.ticketfly.com/purchase/event/695729
CONTACT:
ORGANIZER:Another Planet Ent
ATTACH;FMTTYPE="image/jpeg":http://storage.ning.com/topology/rest/1.0/
 file/get/2247968779?profile=original
ATTENDEE;ROLE=REQ-PARTICIPANT;PARTSTAT=ACCEPTED;RSVP=TRUE;CN="Kimon Fl
 anagan":http://trueskool.com/profile/KimonFlanagan
ATTENDEE;ROLE=REQ-PARTICIPANT;PARTSTAT=ACCEPTED;RSVP=TRUE;CN="Andrea B
 arros":http://trueskool.com/profile/AndreaBarros
ATTENDEE;ROLE=REQ-PARTICIPANT;PARTSTAT=ACCEPTED;RSVP=TRUE;CN="Shayla E
 lliott":http://trueskool.com/profile/ShaylaElliott
ATTENDEE;ROLE=REQ-PARTICIPANT;PARTSTAT=ACCEPTED;RSVP=TRUE;CN=Angela:ht
 tp://trueskool.com/profile/Angela815
ATTENDEE;ROLE=REQ-PARTICIPANT;PARTSTAT=ACCEPTED;RSVP=TRUE;CN="Boogie T
 heMann":http://trueskool.com/profile/BoogieTheMann
ATTENDEE;ROLE=REQ-PARTICIPANT;PARTSTAT=ACCEPTED;RSVP=TRUE;CN="Emo Reyn
 a":http://trueskool.com/profile/EmoReyna
ATTENDEE;ROLE=REQ-PARTICIPANT;PARTSTAT=ACCEPTED;RSVP=TRUE;CN="Tali Ben
 attar":http://trueskool.com/profile/TaliBenattar550
ATTENDEE;ROLE=REQ-PARTICIPANT;PARTSTAT=ACCEPTED;RSVP=TRUE;CN="Den A":h
 ttp://trueskool.com/profile/DenA
ATTENDEE;ROLE=REQ-PARTICIPANT;PARTSTAT=ACCEPTED;RSVP=TRUE;CN="Donte Ha
 rrison":http://trueskool.com/profile/DonteHarrison
ATTENDEE;ROLE=REQ-PARTICIPANT;PARTSTAT=ACCEPTED;RSVP=TRUE;CN="John Ngu
 yen":http://trueskool.com/profile/JohnNguyen
ATTENDEE;ROLE=REQ-PARTICIPANT;PARTSTAT=ACCEPTED;RSVP=TRUE;CN="Ondie A"
 :http://trueskool.com/profile/OndieA
ATTENDEE;ROLE=REQ-PARTICIPANT;PARTSTAT=ACCEPTED;RSVP=TRUE;CN="Victor V
 ela":http://trueskool.com/profile/Vic
ATTENDEE;ROLE=REQ-PARTICIPANT;PARTSTAT=ACCEPTED;RSVP=TRUE;CN="Coco Nut
 tz":http://trueskool.com/profile/CocoNuttz
ATTENDEE;ROLE=REQ-PARTICIPANT;PARTSTAT=ACCEPTED;RSVP=TRUE;CN="Eric Dur
 an":http://trueskool.com/profile/EricDuran
ATTENDEE;ROLE=REQ-PARTICIPANT;PARTSTAT=ACCEPTED;RSVP=TRUE;CN="m.deep.m
 usic":http://trueskool.com/profile/mdeepmusic
ATTENDEE;ROLE=REQ-PARTICIPANT;PARTSTAT=ACCEPTED;RSVP=TRUE;CN="Art Barr
 on":http://trueskool.com/profile/ArtBarron593
ATTENDEE;ROLE=REQ-PARTICIPANT;PARTSTAT=ACCEPTED;RSVP=TRUE;CN="Joseph K
 im":http://trueskool.com/profile/JosephKim
ATTENDEE;ROLE=REQ-PARTICIPANT;PARTSTAT=ACCEPTED;RSVP=TRUE;CN="Jeremiah
  Diaz":http://trueskool.com/profile/JeremiahDiaz
ATTENDEE;ROLE=REQ-PARTICIPANT;PARTSTAT=ACCEPTED;RSVP=TRUE;CN="Elisa Bj
 eldanes":http://trueskool.com/profile/ElisaBjeldanes
ATTENDEE;ROLE=REQ-PARTICIPANT;PARTSTAT=ACCEPTED;RSVP=TRUE;CN="James Mi
 chael Federighi":http://trueskool.com/profile/JamesMichaelFederighi
ATTENDEE;ROLE=REQ-PARTICIPANT;PARTSTAT=ACCEPTED;RSVP=TRUE;CN=Melissa:h
 ttp://trueskool.com/profile/Melissa
ATTENDEE;ROLE=REQ-PARTICIPANT;PARTSTAT=ACCEPTED;RSVP=TRUE;CN="Stefanie
  Jackson":http://trueskool.com/profile/StefanieJackson
ATTENDEE;ROLE=REQ-PARTICIPANT;PARTSTAT=ACCEPTED;RSVP=TRUE;CN="Dolores 
 Torres":http://trueskool.com/profile/DoloresTorres
ATTENDEE;ROLE=REQ-PARTICIPANT;PARTSTAT=ACCEPTED;RSVP=TRUE;CN=JT:http:/
 /trueskool.com/profile/JT502
ATTENDEE;ROLE=REQ-PARTICIPANT;PARTSTAT=ACCEPTED;RSVP=TRUE;CN="Shelly E
 ":http://trueskool.com/profile/ShellyE
ATTENDEE;ROLE=REQ-PARTICIPANT;PARTSTAT=ACCEPTED;RSVP=TRUE;CN="Chaya Be
 ll-Gumaer":http://trueskool.com/profile/ChayaBellGumaer
ATTENDEE;ROLE=REQ-PARTICIPANT;PARTSTAT=ACCEPTED;RSVP=TRUE;CN="Andrew D
 owd-Reilly":http://trueskool.com/profile/AndrewDowdReilly
ATTENDEE;ROLE=REQ-PARTICIPANT;PARTSTAT=ACCEPTED;RSVP=TRUE;CN="Editor's
  Pick":http://trueskool.com/profile/RentheVinylArchaeologist
END:VEVENT
END:VCALENDAR
