BEGIN:VCALENDAR
PRODID:NingEventWidget-v1
VERSION:2.0
METHOD:PUBLISH
BEGIN:VTIMEZONE
TZID:America/Los_Angeles
X-LIC-LOCATION:America/Los_Angeles
BEGIN:DAYLIGHT
TZOFFSETFROM:-0800
TZOFFSETTO:-0700
TZNAME:PDT
DTSTART:19700308T020000
RRULE:FREQ=YEARLY;BYMONTH=3;BYDAY=2SU
END:DAYLIGHT
BEGIN:STANDARD
TZOFFSETFROM:-0700
TZOFFSETTO:-0800
TZNAME:PST
DTSTART:19701101T020000
RRULE:FREQ=YEARLY;BYMONTH=11;BYDAY=1SU
END:STANDARD
END:VTIMEZONE
BEGIN:VEVENT
UID:1464587:Event:674361
DTSTAMP:20260421T023645Z
SUMMARY:Digable Planets (Cancelled)
DESCRIPTION:\r\n \r\n  SATURDAY, JULY 28\r\n Digable Planets (Cancelle
 d)\r\n\r\nThe UC Theatre, Berkeley \r\n Doors: 7:00 pm / Show: 8:00 pm
  $37.50\r\n >> BUY TICKETS\r\n\r\n\r\n\n\nFor more information visit h
 ttp://trueskool.com/events/digable-planets-3
DTSTART;TZID=America/Los_Angeles:20180728T190000
DTEND;TZID=America/Los_Angeles:20180728T230000
CATEGORIES:"bay area", "san francisco"
LOCATION:The UC Theatre, Berkeley
WEBSITE:https://www.ticketfly.com/purchase/event/1677063?_ga=2.1969889
 72.1630496391.1523325059-1122226735.1516395813
URL:https://www.ticketfly.com/purchase/event/1677063?_ga=2.196988972.1
 630496391.1523325059-1122226735.1516395813
CONTACT:
ORGANIZER:The UC Theatre
ATTACH;FMTTYPE="image/jpeg":http://storage.ning.com/topology/rest/1.0/
 file/get/2248006271?profile=original
ATTENDEE;ROLE=REQ-PARTICIPANT;PARTSTAT=ACCEPTED;RSVP=TRUE;CN="Editor's
  Pick":http://trueskool.com/profile/RentheVinylArchaeologist
ATTENDEE;ROLE=REQ-PARTICIPANT;PARTSTAT=TENTATIVE;RSVP=TRUE;CN=strilici
 ous:http://trueskool.com/profile/strilicious
END:VEVENT
END:VCALENDAR
