BEGIN:VCALENDAR
PRODID:NingEventWidget-v1
VERSION:2.0
METHOD:PUBLISH
BEGIN:VTIMEZONE
TZID:America/Los_Angeles
X-LIC-LOCATION:America/Los_Angeles
BEGIN:DAYLIGHT
TZOFFSETFROM:-0800
TZOFFSETTO:-0700
TZNAME:PDT
DTSTART:19700308T020000
RRULE:FREQ=YEARLY;BYMONTH=3;BYDAY=2SU
END:DAYLIGHT
BEGIN:STANDARD
TZOFFSETFROM:-0700
TZOFFSETTO:-0800
TZNAME:PST
DTSTART:19701101T020000
RRULE:FREQ=YEARLY;BYMONTH=11;BYDAY=1SU
END:STANDARD
END:VTIMEZONE
BEGIN:VEVENT
UID:1464587:Event:661462
DTSTAMP:20260421T154924Z
SUMMARY:Digable Planets (WIN TICKETS)
DESCRIPTION:ENTER TO WIN A PAIR OF TICKETS. WINNER WILL BE DRAWN RANDO
 MLY AND ANNOUNCED 2 DAYS PRIOR TO EVENT.  \n\n Thursday May 25th\nSea
 n Healy & Tastemaker Live present\nDIGABLE PLANETS (Live Band)\n@ 1015
 , San Francisco Doors: 8:30pm / 21+\n>> BUY TICKETS\n\nVIP Tickets inc
 lude express entry + access to private balcony & limited seating area.
 \n\nFor more information visit http://trueskool.com/events/digable-pla
 nets-1
DTSTART;TZID=America/Los_Angeles:20170525T203000
DTEND;TZID=America/Los_Angeles:20170525T230000
CATEGORIES:"bay area", "san francisco"
LOCATION:1015, San Francisco
WEBSITE:https://www.eventbrite.com/e/digable-planets-at-1015-folsom-ti
 ckets-33394798742
URL:https://www.eventbrite.com/e/digable-planets-at-1015-folsom-ticket
 s-33394798742
CONTACT:
ORGANIZER:Tastemaker Live & Sean Healy
ATTACH;FMTTYPE="image/jpeg":http://storage.ning.com/topology/rest/1.0/
 file/get/2247996899?profile=original
ATTENDEE;ROLE=REQ-PARTICIPANT;PARTSTAT=ACCEPTED;RSVP=TRUE;CN="Michelle
  Elusive":http://trueskool.com/profile/MichelleElusive
ATTENDEE;ROLE=REQ-PARTICIPANT;PARTSTAT=ACCEPTED;RSVP=TRUE;CN="Brianna 
 M. Sylvers":http://trueskool.com/profile/BriannaMSylvers
ATTENDEE;ROLE=REQ-PARTICIPANT;PARTSTAT=ACCEPTED;RSVP=TRUE;CN="Ren the 
 Vinyl Archaeologist":http://trueskool.com/profile/xh51jvilojur
END:VEVENT
END:VCALENDAR
