BEGIN:VCALENDAR
PRODID:NingEventWidget-v1
VERSION:2.0
METHOD:PUBLISH
BEGIN:VTIMEZONE
TZID:America/Los_Angeles
X-LIC-LOCATION:America/Los_Angeles
BEGIN:DAYLIGHT
TZOFFSETFROM:-0800
TZOFFSETTO:-0700
TZNAME:PDT
DTSTART:19700308T020000
RRULE:FREQ=YEARLY;BYMONTH=3;BYDAY=2SU
END:DAYLIGHT
BEGIN:STANDARD
TZOFFSETFROM:-0700
TZOFFSETTO:-0800
TZNAME:PST
DTSTART:19701101T020000
RRULE:FREQ=YEARLY;BYMONTH=11;BYDAY=1SU
END:STANDARD
END:VTIMEZONE
BEGIN:VEVENT
UID:1464587:Event:545009
DTSTAMP:20260420T214248Z
SUMMARY:Die Antwoord (Atlanta)
DESCRIPTION:  \n\n\n\n\n\nDate\nLocation\nEvent Details\nFind Ticket
 s\n\n\nMAR  \n25\nWED\n\nThe TabernacleAtlanta, GA08:00 PM\n\nDie A
 ntwoord\nSee Ticketson Live Nation\n\n\n\n\n\n\n\n\n\n\n\n\n\n\nFor mo
 re information visit http://trueskool.com/events/dieantwoord
DTSTART;TZID=America/Los_Angeles:20150325T200000
DTEND;TZID=America/Los_Angeles:20150325T230000
CATEGORIES:atlanta, georgia, atl
LOCATION:The Tabernacle
WEBSITE:http://www.ticketmaster.com/partner_redirect?v=UD1NvuwvPTV_DLT
 _qKYgKKoc5hhhFyMoXECQfMzvCw06wl49xW90bI4t1RU88dqXfH8BHS_0xicD5-39FWFzk
 gRERtJ0JazTx4e0wH3Cl_mm298Cviz3FhK8xCplTfCn-JfqLw&eventid=0E004E2B1F47
 65B4&artistid=1484046&artistname=Die%20Antwoord&crosssite=TM_US:148404
 6:115031&tm_link=artist_msg-0_0E004E2B1F4765B4
URL:http://www.ticketmaster.com/partner_redirect?v=UD1NvuwvPTV_DLT_qKY
 gKKoc5hhhFyMoXECQfMzvCw06wl49xW90bI4t1RU88dqXfH8BHS_0xicD5-39FWFzkgRER
 tJ0JazTx4e0wH3Cl_mm298Cviz3FhK8xCplTfCn-JfqLw&eventid=0E004E2B1F4765B4
 &artistid=1484046&artistname=Die%20Antwoord&crosssite=TM_US:1484046:11
 5031&tm_link=artist_msg-0_0E004E2B1F4765B4
CONTACT:
ORGANIZER;CN="Editor's Pick":http://trueskool.com/profile/RentheVinylA
 rchaeologist
ATTACH;FMTTYPE="image/jpeg":http://storage.ning.com/topology/rest/1.0/
 file/get/2247973345?profile=original
ATTENDEE;ROLE=REQ-PARTICIPANT;PARTSTAT=ACCEPTED;RSVP=TRUE;CN="Editor's
  Pick":http://trueskool.com/profile/RentheVinylArchaeologist
END:VEVENT
END:VCALENDAR
