BEGIN:VCALENDAR
PRODID:NingEventWidget-v1
VERSION:2.0
METHOD:PUBLISH
BEGIN:VTIMEZONE
TZID:America/Los_Angeles
X-LIC-LOCATION:America/Los_Angeles
BEGIN:DAYLIGHT
TZOFFSETFROM:-0800
TZOFFSETTO:-0700
TZNAME:PDT
DTSTART:19700308T020000
RRULE:FREQ=YEARLY;BYMONTH=3;BYDAY=2SU
END:DAYLIGHT
BEGIN:STANDARD
TZOFFSETFROM:-0700
TZOFFSETTO:-0800
TZNAME:PST
DTSTART:19701101T020000
RRULE:FREQ=YEARLY;BYMONTH=11;BYDAY=1SU
END:STANDARD
END:VTIMEZONE
BEGIN:VEVENT
UID:1464587:Event:554220
DTSTAMP:20260421T011132Z
SUMMARY:Diana Ross (New Orleans)
DESCRIPTION:\nDate\nLocation\nEvent Details\nFind Tickets\n\n\n FEB 
  \n28\nSAT\n\nSaenger Theatre New OrleansNew Orleans, LA08:00 PM\n\n
 Diana Ross\nSee Tickets NOT MANY LEFT\n\n\n\n\nFor more information v
 isit http://trueskool.com/events/diana-ross-new-orleans
DTSTART;TZID=America/Los_Angeles:20150228T200000
DTEND;TZID=America/Los_Angeles:20150228T230000
CATEGORIES:"new orleans", louisiana, la
LOCATION:Saenger Theatre, New Orleans
WEBSITE:http://www.ticketmaster.com/diana-ross-new-orleans-louisiana-0
 2-28-2015/event/1B004D93A5445FC2?artistid=736009&majorcatid=10001&mino
 rcatid=202&tm_link=artist_msg-1_1B004D93A5445FC2
URL:http://www.ticketmaster.com/diana-ross-new-orleans-louisiana-02-28
 -2015/event/1B004D93A5445FC2?artistid=736009&majorcatid=10001&minorcat
 id=202&tm_link=artist_msg-1_1B004D93A5445FC2
CONTACT:
ORGANIZER;CN="Editor's Pick":http://trueskool.com/profile/RentheVinylA
 rchaeologist
ATTACH;FMTTYPE="image/jpeg":http://storage.ning.com/topology/rest/1.0/
 file/get/2247972891?profile=original
ATTENDEE;ROLE=REQ-PARTICIPANT;PARTSTAT=ACCEPTED;RSVP=TRUE;CN="Editor's
  Pick":http://trueskool.com/profile/RentheVinylArchaeologist
END:VEVENT
END:VCALENDAR
