BEGIN:VCALENDAR
PRODID:NingEventWidget-v1
VERSION:2.0
METHOD:PUBLISH
BEGIN:VTIMEZONE
TZID:America/Los_Angeles
X-LIC-LOCATION:America/Los_Angeles
BEGIN:DAYLIGHT
TZOFFSETFROM:-0800
TZOFFSETTO:-0700
TZNAME:PDT
DTSTART:19700308T020000
RRULE:FREQ=YEARLY;BYMONTH=3;BYDAY=2SU
END:DAYLIGHT
BEGIN:STANDARD
TZOFFSETFROM:-0700
TZOFFSETTO:-0800
TZNAME:PST
DTSTART:19701101T020000
RRULE:FREQ=YEARLY;BYMONTH=11;BYDAY=1SU
END:STANDARD
END:VTIMEZONE
BEGIN:VEVENT
UID:1464587:Event:654602
DTSTAMP:20260421T102209Z
SUMMARY:Dia De Los Muertos feat. Los Rakas, Bayonics, DJ Leydis, Chuy 
 Gomez
DESCRIPTION: ENTER TO WIN A PAIR OF TICKETS. WINNER WILL BE DRAWN RAND
 OMLY AND ANNOUNCED 2 DAYS PRIOR TO EVENT.  \n\n\n\nWednesday, Nov 2 
 Hip Hop For Change presents\nDia De Los Muertos\nFeaturing live perfor
 mances by: Los Rakas\nBayonics\nDJ Leydis\nChuy Gomez (hosting & DJing
 )\n@ Great Northern, San Francisco 9pm-2am, 21+, $10-$15 adv, $20 door
 \n>> BUY TICKETS\n\n\n\n\nFor more information visit http://trueskool.
 com/events/dia-de-los-muertos-feat-los-rakas-bayonics-dj-leydis-chuy-g
 omez
DTSTART;TZID=America/Los_Angeles:20161102T210000
DTEND;TZID=America/Los_Angeles:20161103T020000
CATEGORIES:"bay area", "san francisco"
LOCATION:Great Northern (formerly Mighty), San Francisco
WEBSITE:https://www.ticketfly.com/purchase/event/1350063/tfly
URL:https://www.ticketfly.com/purchase/event/1350063/tfly
CONTACT:
ORGANIZER:Hip Hop For Change
ATTACH;FMTTYPE="image/jpeg":http://storage.ning.com/topology/rest/1.0/
 file/get/2247992051?profile=original
ATTENDEE;ROLE=REQ-PARTICIPANT;PARTSTAT=ACCEPTED;RSVP=TRUE;CN="Editor's
  Pick":http://trueskool.com/profile/RentheVinylArchaeologist
END:VEVENT
END:VCALENDAR
