BEGIN:VCALENDAR
PRODID:NingEventWidget-v1
VERSION:2.0
METHOD:PUBLISH
BEGIN:VTIMEZONE
TZID:America/Los_Angeles
X-LIC-LOCATION:America/Los_Angeles
BEGIN:DAYLIGHT
TZOFFSETFROM:-0800
TZOFFSETTO:-0700
TZNAME:PDT
DTSTART:19700308T020000
RRULE:FREQ=YEARLY;BYMONTH=3;BYDAY=2SU
END:DAYLIGHT
BEGIN:STANDARD
TZOFFSETFROM:-0700
TZOFFSETTO:-0800
TZNAME:PST
DTSTART:19701101T020000
RRULE:FREQ=YEARLY;BYMONTH=11;BYDAY=1SU
END:STANDARD
END:VTIMEZONE
BEGIN:VEVENT
UID:1464587:Event:655175
DTSTAMP:20260421T121310Z
SUMMARY:Dia de los Muertos Celebration Nov 1st @ Elbo Room (downstairs
 ) 9pm-2am
DESCRIPTION:Hella Saucey Dia de los Muertos Celebration is taking plac
 e Tuesday Nov 1st in the heart of the mission.   We are honoring the 
 souls that passed and will have an alter set up to help support them t
 hrough their spiritual journey.  Music provided by Peaches Lady DJ Cre
 w and Hosted by the one and only Aima The Dreamer.  DJs: DeeJay Andre
  Deeandroid   Elbo Room 647 Valencia St. 9pm-2am NO COVER 21+\n\nFor 
 more information visit http://trueskool.com/events/dia-de-los-muertos-
 celebration-nov-1st-elbo-room-downstairs-9pm-1
DTSTART;TZID=America/Los_Angeles:20161101T210000
DTEND;TZID=America/Los_Angeles:20161102T020000
CATEGORIES:san, francisco, bay, area
LOCATION:Elbo Room, San Francisco, CA
WEBSITE:http://www.facebook.com/hellasaucey
URL:http://www.facebook.com/hellasaucey
CONTACT:
ORGANIZER;CN="DeeJay Andre":http://trueskool.com/profile/DeeJayAndre
ATTACH;FMTTYPE="image/jpeg":http://storage.ning.com/topology/rest/1.0/
 file/get/2247992309?profile=original
ATTENDEE;ROLE=REQ-PARTICIPANT;PARTSTAT=ACCEPTED;RSVP=TRUE;CN="DeeJay A
 ndre":http://trueskool.com/profile/DeeJayAndre
END:VEVENT
END:VCALENDAR
