BEGIN:VCALENDAR
PRODID:NingEventWidget-v1
VERSION:2.0
METHOD:PUBLISH
BEGIN:VTIMEZONE
TZID:America/Los_Angeles
X-LIC-LOCATION:America/Los_Angeles
BEGIN:DAYLIGHT
TZOFFSETFROM:-0800
TZOFFSETTO:-0700
TZNAME:PDT
DTSTART:19700308T020000
RRULE:FREQ=YEARLY;BYMONTH=3;BYDAY=2SU
END:DAYLIGHT
BEGIN:STANDARD
TZOFFSETFROM:-0700
TZOFFSETTO:-0800
TZNAME:PST
DTSTART:19701101T020000
RRULE:FREQ=YEARLY;BYMONTH=11;BYDAY=1SU
END:STANDARD
END:VTIMEZONE
BEGIN:VEVENT
UID:1464587:Event:284040
DTSTAMP:20260420T232412Z
SUMMARY:Deep Blue + Dax Presents :: Capricorn party feat MARK FARINA
DESCRIPTION:Celebrating Rooz & Dax's birthdays along with all the othe
 r Capricorns Promoter event: https://www.facebook.com/events/2403137
 62796010/DJs: Mark Farina, David Harness, Rooz, Dax, Buckner, Ken Minn
 Deep Blue and Dax joining forces to bring you the 12th annual Capricor
 n party. For the last 4 years the Deep Blue parties with Mark Farina a
 t Mighty have never disappointed with a consistent packed house and in
 fectious energy on the dance floor. For the last 12 years Dax's Capric
 orn parties have always been a highlight in January. Now for this spec
 ial occasion both crews are uniting to put together a great bday party
  for all the Capricorns. Expect a great night of house music with San 
 Francisco's all time house music hero Mark Farina. Mark Farina paved t
 he way for house music DJs in SF. One of the few who came from the und
 erground and went to superstar status. With over multiple productions 
 on labels like Om Records, Defected and more. Not to mention over 10 c
 ompilations on Om, Fabric and Ministry of Sound. To his Mushroom Jazz 
 becoming an incredible success with over 7 series. The man has travele
 d the world, played the top clubs, and high profile festivals. In 2013
  Mark joined fellow Chicago house music legends Derrick Carter and DJ 
 Sneak on a world tour. Playing at all the hot venues along with multip
 le dates at one of the wolds most infamous clubs, Pacha in Ibiza. Exp
 ect a crazy night of hands in the air moments! I mean thats what happe
 ns when you get the #1 all time SF DJ on the insane sound system of Mi
 ghty and let him loose in that underground atmosphere where he can pla
 y whatever he wants and get creative to the MAX. Not to mention the un
 derground crowd that is totally into the music feeding energy into Mar
 k. The last few Deep Blue events with Mark Farina @ Mighty have been v
 ery close to selling out. An incredible party that goes strong all the
  way till 4am!!! Our last 5 shows with Mark Farina at Mighty were all
  sold out!! Everyone knows this party goes off. Its an insaaaaaane par
 ty that we host 2-3 times a year and never fails, see photos here. Exp
 ect great music, great crowd with incredible energy exploding in front
  of the DJ Booth. The music always starts off deep and funky then slow
 ly moves into more underground banging house. By 3am we switch to full
  afterhours mode as the music gets more energetic and trippy\n\nFor mo
 re information visit http://trueskool.com/events/deep-blue-dax-present
 s-capricorn-party-feat-mark-farina
DTSTART;TZID=America/Los_Angeles:20140104T220000
DTEND;TZID=America/Los_Angeles:20140105T040000
CATEGORIES:san, francisco, bay, area, california
LOCATION:Mighty, San Francisco
WEBSITE:http://www.eventbrite.com/e/deep-blue-dax-capricorn-party-feat
 -mark-farina-at-mighty-tickets-9780472657
URL:http://www.eventbrite.com/e/deep-blue-dax-capricorn-party-feat-mar
 k-farina-at-mighty-tickets-9780472657
CONTACT:
ORGANIZER:Mighty
ATTACH;FMTTYPE="image/jpeg":http://storage.ning.com/topology/rest/1.0/
 file/get/2247954595?profile=original
ATTENDEE;ROLE=REQ-PARTICIPANT;PARTSTAT=ACCEPTED;RSVP=TRUE;CN="Alexandr
 a Alden":http://trueskool.com/profile/AlexandraAlden
END:VEVENT
END:VCALENDAR
