BEGIN:VCALENDAR
PRODID:NingEventWidget-v1
VERSION:2.0
METHOD:PUBLISH
BEGIN:VTIMEZONE
TZID:America/Los_Angeles
X-LIC-LOCATION:America/Los_Angeles
BEGIN:DAYLIGHT
TZOFFSETFROM:-0800
TZOFFSETTO:-0700
TZNAME:PDT
DTSTART:19700308T020000
RRULE:FREQ=YEARLY;BYMONTH=3;BYDAY=2SU
END:DAYLIGHT
BEGIN:STANDARD
TZOFFSETFROM:-0700
TZOFFSETTO:-0800
TZNAME:PST
DTSTART:19701101T020000
RRULE:FREQ=YEARLY;BYMONTH=11;BYDAY=1SU
END:STANDARD
END:VTIMEZONE
BEGIN:VEVENT
UID:1464587:Event:654082
DTSTAMP:20260420T133416Z
SUMMARY:Dee-1: Live in Concert
DESCRIPTION:Be Real! Be Righteous! Be Relevant!   Hip Hop's young Reb
 elutionary, Dee-1 will be coming all the way from New Orleans for his 
 first Bay Area concert in SF! Witness Dee-1 and some of the Bay Area's
  very own as they use their words like a paintbrush to lyrically paint
  vivid images of what life looks like once we as a people unlock the g
 reatness within. Dont miss our first Lyrical Visionary Concert, \"Gold
 Minds\" with special guest Dee-1. (Limited Seating)  The equation is s
 imple. Soul + swag x New Orleans = Dee-1. He has created his own lane 
 in Hip-Hop by making music that motivates anyone on a mission to win t
 he game of life. He is the voice of those underdogs who grind with a p
 urpose.  After graduating from Louisiana State University with a bache
 lor's degree, Dee-1 taught middle school in Baton Rouge by day to help
  fund his musical dream. After two years of being \"Mr. Augustine\" by
  day and \"Dee-1\" by night, he finally decided that his passion for h
 ip-hop was too strong to ignore. Armed with righteousness, realness, a
 nd the strong desire to be relevant, Dee-1 set his sights on becoming 
 the type of rapper his students could be proud of. Sleepless nights be
 ing a full-time teacher and part-time rapper were now replaced by slee
 pless nights being a \"full-time dream chaser,\" as chronicled in his 
 courageous song, \"The Announcement.\" from his I Hope They Hear Me Vo
 l 1 mixtape.  In March 2011, Dee-1 released the mixtape, \"I Hope They
  Hear Me Vol 2\" packed with 18 high energy joints that has already re
 ached thousands. This was a life changing mixtape for Dee-1 as several
  singles received extensive radio play and regular airplay on MTV Jams
 . Most notably was his single \"Jay, 50, and Weezy,\" which created a 
 huge internet buzz that allowed him to take his career and music to th
 e next level. Dee-1's latest project, \"The Focus Tape,\" (hosted by l
 egendary Dj Mannie Fresh) was released on October 9, 2012, Followed by
  \"Psalms of David,\" (featuring hit song \"Work\" ft Lecrae) which wa
 s released on February 20th, 2013 have both reached over 100,000 peopl
 e worldwide each. After the huge announcement of Dee-1 signing a major
  record deal, he released his latest mixtape, \"Psalms of David II\" o
 n October 19th, 2013.  You haven't witnessed Dee-1's true star power u
 ntil you have seen him live in concert. He is known for giving jaw-dro
 pping, crowd-surfing performances and electrifying audiences whenever 
 he hits the stage. As Dee-1 says, \"It feels way better to actually wi
 n over an audience rather than just brag on how good I am. I'd rather 
 prove it to you.\" Since 2011, Dee-1 has been on four successful natio
 nwide tours, the \"Grind and Hustle Tour,\" the \"Too Focused to Fail 
 Tour,\" the \"Ridin All By Ourselves Tour,\" the \"Heist Tour,\" and t
 he \"Tetsou and Youth Preview Tour.\"  Dee-1's artistry is more than j
 ust music; it's a lifestyle and a frame of mind that he calls \"missio
 n vision.\" Dee's nickname \"The One Man Army\" embodies this mission,
  \"Everyone has a mission, and everyone is their own One Man or One Wo
 man Army.\"  Dee-1 recognizes that his music resonates with people bec
 ause it's authentic, \"That's why people from the hood all the way to 
 the classroom feel it.\" His message extends well beyond the stereotyp
 e of the traditional rapper, because as he says, \"real recognizes rea
 l.\" All of this progress has left die-hard Dee-1 fans asking, \"What'
 s next?\"No one knows for sure, but as his fan base continues to grow,
  Dee-1 has his eye on the prize and is positioning himself to become H
 ip-Hop's next great superstar.\n\nFor more information visit http://tr
 ueskool.com/events/dee-1-live-in-concert
DTSTART;TZID=America/Los_Angeles:20161001T190000
DTEND;TZID=America/Los_Angeles:20161001T220000
CATEGORIES:"san francisco", "bay area"
LOCATION:City Life SF, San Francisco, CA
WEBSITE:https://lyricalvisionary.eventbrite.com
URL:https://lyricalvisionary.eventbrite.com
CONTACT:4242603650
ORGANIZER;CN="Lyrical Opposition":http://trueskool.com/profile/Lyrical
 Opposition
ATTACH;FMTTYPE="image/jpeg":http://storage.ning.com/topology/rest/1.0/
 file/get/2247991405?profile=original
ATTENDEE;ROLE=REQ-PARTICIPANT;PARTSTAT=ACCEPTED;RSVP=TRUE;CN="Lyrical 
 Opposition":http://trueskool.com/profile/LyricalOpposition
END:VEVENT
END:VCALENDAR
