BEGIN:VCALENDAR
PRODID:NingEventWidget-v1
VERSION:2.0
METHOD:PUBLISH
BEGIN:VTIMEZONE
TZID:America/Los_Angeles
X-LIC-LOCATION:America/Los_Angeles
BEGIN:DAYLIGHT
TZOFFSETFROM:-0800
TZOFFSETTO:-0700
TZNAME:PDT
DTSTART:19700308T020000
RRULE:FREQ=YEARLY;BYMONTH=3;BYDAY=2SU
END:DAYLIGHT
BEGIN:STANDARD
TZOFFSETFROM:-0700
TZOFFSETTO:-0800
TZNAME:PST
DTSTART:19701101T020000
RRULE:FREQ=YEARLY;BYMONTH=11;BYDAY=1SU
END:STANDARD
END:VTIMEZONE
BEGIN:VEVENT
UID:1464587:Event:663478
DTSTAMP:20260421T024739Z
SUMMARY:Dead Country Gentlemen/Alvie & The Breakfast Pigs/Wyves(AZ)
DESCRIPTION:High Energy Rock N Roll. This high Energy throw down will 
 be happening in Oakland, CA on June 22 at the Uptown night club w/ Dea
 d Country Gentlemen, Alvie & The Breakfast Pigs, and Wvyes (AZ). Dead 
 Country Gentlemen HAILING FROM THE MISSION DISTRICT OF SAN FRANCISCO, 
 DEAD COUNTRY GENTLEMEN COMBINE HIGH GAIN GUITAR, THUNDERING DRUMS AND 
 HAUNTING ORGAN TO DELIVER HEARTFELT SHOWS THAT REFLECT THEIR UNSETTLIN
 G LYRICS. https://www.deadcountrygentlemen.com Alvie & The Breakfast P
 igs Well first off we live Rock and Roll! We drink beer, smoke anythin
 g, bus tables, serve drinks and still are broke. We write songs about 
 living in the city by the bay, where the T3CH1ES have taken over! That
  does not stop us from riding up hills, sleeping on the beaches, doing
  dumb shit, and playing music. we consider our music to be Trash Blues
  rock. We are loud and in your face, we're not afraid to play fast. Ou
 r music is to be listened to with a beer in hand and shot ready, in ou
 r opinion it keeps the experience FRESH!!!! alvieandthebreakfastpigs.c
 om Wyves Formed in the early parts of 2015, the band Wyves have been h
 ard at work creating and crafting their signature brand of Rock & Roll
 . Their debut album, Spoils Of War , is 11 tracks that came from six m
 onths of writing sessions. It is an album that is both modern and clas
 sic in quality and conviction with great hooks and well thought out ly
 rics. \"Spoils Of War\" was released in February of 2016 to a Sold Out
  Crescent Ballroom in Phoenix, Arizona. It was also released across al
 l online outlets, where it continues to spread and reach new ears. Pho
 enix New Times named \"Spoils of War\" the #2 Best Album, the single \
 "Spoils Of War\" the #1 song and Corey Gloden the Best Male Vocalist o
 f 2016. http://ilovemywyves.com.\n\nFor more information visit http://
 trueskool.com/events/dead-country-gentlemen-alvie-the-breakfast-pigs-w
 yves-az
DTSTART;TZID=America/Los_Angeles:20170622T200000
DTEND;TZID=America/Los_Angeles:20170622T233000
CATEGORIES:performance, music, outdoor, drink, blues, rock, loud, high
 , energy, craft, beer
LOCATION:The Uptown Nightclub
WEBSITE:https://www.scenesquid.com/events/dead-country-gentlemen-alvie
 -the-breakfast-pigs-wyves-az/593f2328dc23c7527a000024?referring_publis
 her=557fcea2808529985700000d
URL:https://www.scenesquid.com/events/dead-country-gentlemen-alvie-the
 -breakfast-pigs-wyves-az/593f2328dc23c7527a000024?referring_publisher=
 557fcea2808529985700000d
CONTACT:602-363-0476
ORGANIZER:Alvie & The Breakfast Pigs
ATTACH;FMTTYPE="image/jpeg":
ATTENDEE;ROLE=REQ-PARTICIPANT;PARTSTAT=ACCEPTED;RSVP=TRUE;CN="SceneSqu
 id SF Bay":http://trueskool.com/profile/SceneSquidSFBay
END:VEVENT
END:VCALENDAR
