BEGIN:VCALENDAR
PRODID:NingEventWidget-v1
VERSION:2.0
METHOD:PUBLISH
BEGIN:VTIMEZONE
TZID:America/Los_Angeles
X-LIC-LOCATION:America/Los_Angeles
BEGIN:DAYLIGHT
TZOFFSETFROM:-0800
TZOFFSETTO:-0700
TZNAME:PDT
DTSTART:19700308T020000
RRULE:FREQ=YEARLY;BYMONTH=3;BYDAY=2SU
END:DAYLIGHT
BEGIN:STANDARD
TZOFFSETFROM:-0700
TZOFFSETTO:-0800
TZNAME:PST
DTSTART:19701101T020000
RRULE:FREQ=YEARLY;BYMONTH=11;BYDAY=1SU
END:STANDARD
END:VTIMEZONE
BEGIN:VEVENT
UID:1464587:Event:444422
DTSTAMP:20260420T201608Z
SUMMARY:De La Soul 12/1 [LA]
DESCRIPTION:\nDe La Soul\n\n\nHouse of Blues Sunset Strip West Hollywo
 od, CA\n\nMon, 12/01/1408:00 PM\n\nSee Ticketson Live Nation\n\n\n\n\n
 \n\nFor more information visit http://trueskool.com/events/de-la-soul-
 12-1-la
DTSTART;TZID=America/Los_Angeles:20141201T200000
DTEND;TZID=America/Los_Angeles:20141201T230000
CATEGORIES:"los angeles"
LOCATION:House of Blues Sunset Strip West Hollywood, CA
WEBSITE:http://www.ticketmaster.com/partner_redirect?v=Htn13uQ4v7hMiO0
 XNBAJusvoJ3w_Z-oqryR_dUr9r6KpK8Q18zrmegHFT7869FfA0tBkTFjWS6AWd0fAqAyhL
 ECFxpCMJZQfyOlolw8LSzWvX_BEUdkiD8JjS01MhdQook0mpA&eventid=09004D2FD8A2
 5415&artistid=768359&artistname=De%20La%20Soul&crosssite=TM_US:768359:
 73807&tm_link=browse_msg-0_09004D2FD8A25415
URL:http://www.ticketmaster.com/partner_redirect?v=Htn13uQ4v7hMiO0XNBA
 JusvoJ3w_Z-oqryR_dUr9r6KpK8Q18zrmegHFT7869FfA0tBkTFjWS6AWd0fAqAyhLECFx
 pCMJZQfyOlolw8LSzWvX_BEUdkiD8JjS01MhdQook0mpA&eventid=09004D2FD8A25415
 &artistid=768359&artistname=De%20La%20Soul&crosssite=TM_US:768359:7380
 7&tm_link=browse_msg-0_09004D2FD8A25415
CONTACT:
ORGANIZER:Editor's Pick
ATTACH;FMTTYPE="image/jpeg":http://storage.ning.com/topology/rest/1.0/
 file/get/2247968988?profile=original
ATTENDEE;ROLE=REQ-PARTICIPANT;PARTSTAT=ACCEPTED;RSVP=TRUE;CN="Ren the 
 Vinyl Archaeologist":http://trueskool.com/profile/xh51jvilojur
END:VEVENT
END:VCALENDAR
