BEGIN:VCALENDAR
PRODID:NingEventWidget-v1
VERSION:2.0
METHOD:PUBLISH
BEGIN:VTIMEZONE
TZID:America/Los_Angeles
X-LIC-LOCATION:America/Los_Angeles
BEGIN:DAYLIGHT
TZOFFSETFROM:-0800
TZOFFSETTO:-0700
TZNAME:PDT
DTSTART:19700308T020000
RRULE:FREQ=YEARLY;BYMONTH=3;BYDAY=2SU
END:DAYLIGHT
BEGIN:STANDARD
TZOFFSETFROM:-0700
TZOFFSETTO:-0800
TZNAME:PST
DTSTART:19701101T020000
RRULE:FREQ=YEARLY;BYMONTH=11;BYDAY=1SU
END:STANDARD
END:VTIMEZONE
BEGIN:VEVENT
UID:1464587:Event:608684
DTSTAMP:20260420T183552Z
SUMMARY:Day Of The Beautiful Strugglers
DESCRIPTION:Come and Join us at Lake Merritt @ The Pavilion\nI recentl
 y went through a life changing experience, where I was lifted by the c
 ommunity. Let's share our struggles, help one another and have a great
  time building community! Also its my bday and I want to have a great 
 time with awesome people. So come on out!\n\n3/14/15\n10-6pm\nBring:\n
 Food to put on the grill\nClothes to swap\nKids to be happy\n\n\nFor m
 ore information visit http://trueskool.com/events/day-of-the-beautiful
 -strugglers
DTSTART;TZID=America/Los_Angeles:20150314T100000
DTEND;TZID=America/Los_Angeles:20150314T180000
CATEGORIES:"#bayarea", "#oakland", "#lakemerritt", "#beautifulstruggle
 rs", "#deepculture"
LOCATION:Lake Merritt, California
WEBSITE:
URL:
CONTACT:
ORGANIZER;CN="Malcolm Shabazz Hoover":http://trueskool.com/profile/Mal
 colmShabazzHoover
ATTACH;FMTTYPE="image/jpeg":http://storage.ning.com/topology/rest/1.0/
 file/get/2247973627?profile=original
ATTENDEE;ROLE=REQ-PARTICIPANT;PARTSTAT=ACCEPTED;RSVP=TRUE;CN="Malcolm 
 Shabazz Hoover":http://trueskool.com/profile/MalcolmShabazzHoover
END:VEVENT
END:VCALENDAR
