BEGIN:VCALENDAR
PRODID:NingEventWidget-v1
VERSION:2.0
METHOD:PUBLISH
BEGIN:VTIMEZONE
TZID:America/Los_Angeles
X-LIC-LOCATION:America/Los_Angeles
BEGIN:DAYLIGHT
TZOFFSETFROM:-0800
TZOFFSETTO:-0700
TZNAME:PDT
DTSTART:19700308T020000
RRULE:FREQ=YEARLY;BYMONTH=3;BYDAY=2SU
END:DAYLIGHT
BEGIN:STANDARD
TZOFFSETFROM:-0700
TZOFFSETTO:-0800
TZNAME:PST
DTSTART:19701101T020000
RRULE:FREQ=YEARLY;BYMONTH=11;BYDAY=1SU
END:STANDARD
END:VTIMEZONE
BEGIN:VEVENT
UID:1464587:Event:365676
DTSTAMP:20260421T151800Z
SUMMARY:Dawn Robinson & Maxine Jones Formerly of En Vogue (WIN TICKETS
 )
DESCRIPTION:\n Sunday, June 29 Dawn Robinson & Maxine Jones Formerly o
 f En Vogue\n7pm & 9pm $42 Premier seating + Meet and Greet $69\nPREMIE
 R SEATING + MEET and GREET tickets: Yoshi's will provide seating in th
 e first two rows for the performance. The Meet and Greet (approx. 20 m
 ins) will be one hour before the early performance (6PM) and will take
  place in the club.\nYoshi's Oakland 510 Embarcadero West Jack London 
 Square Oakland, CA 94607 Phone: 510.238.9200  » BUY TICKETS\n\nFor mo
 re information visit http://trueskool.com/events/dawn-robinson-maxine-
 jones-formerly-of-en-vogue-win-tickets
DTSTART;TZID=America/Los_Angeles:20140629T190000
DTEND;TZID=America/Los_Angeles:20140629T230000
CATEGORIES:"bay area", oakland
LOCATION:Yoshi's, Oakland
WEBSITE:http://yoshis.inticketing.com/evlist.php?events=search&searchs
 tr=Dawn+Robinson&smonth=0&sday=0&syear=0&vstate=0
URL:http://yoshis.inticketing.com/evlist.php?events=search&searchstr=D
 awn+Robinson&smonth=0&sday=0&syear=0&vstate=0
CONTACT:
ORGANIZER:Yoshi's
ATTACH;FMTTYPE="image/jpeg":http://storage.ning.com/topology/rest/1.0/
 file/get/2247965106?profile=original
ATTENDEE;ROLE=REQ-PARTICIPANT;PARTSTAT=ACCEPTED;RSVP=TRUE;CN="Shayla E
 lliott":http://trueskool.com/profile/ShaylaElliott
ATTENDEE;ROLE=REQ-PARTICIPANT;PARTSTAT=ACCEPTED;RSVP=TRUE;CN="Mark Hen
 derson":http://trueskool.com/profile/MarkHenderson
ATTENDEE;ROLE=REQ-PARTICIPANT;PARTSTAT=ACCEPTED;RSVP=TRUE;CN="Elisa Bj
 eldanes":http://trueskool.com/profile/ElisaBjeldanes
ATTENDEE;ROLE=REQ-PARTICIPANT;PARTSTAT=ACCEPTED;RSVP=TRUE;CN="Camille 
 Yin":http://trueskool.com/profile/Camille
ATTENDEE;ROLE=REQ-PARTICIPANT;PARTSTAT=ACCEPTED;RSVP=TRUE;CN="Brianna 
 M. Sylvers":http://trueskool.com/profile/BriannaMSylvers
ATTENDEE;ROLE=REQ-PARTICIPANT;PARTSTAT=ACCEPTED;RSVP=TRUE;CN="Frank Vi
 loria":http://trueskool.com/profile/DJILLusive
ATTENDEE;ROLE=REQ-PARTICIPANT;PARTSTAT=ACCEPTED;RSVP=TRUE;CN=J:http://
 trueskool.com/profile/J321
ATTENDEE;ROLE=REQ-PARTICIPANT;PARTSTAT=ACCEPTED;RSVP=TRUE;CN="James Mi
 chael Federighi":http://trueskool.com/profile/JamesMichaelFederighi
ATTENDEE;ROLE=REQ-PARTICIPANT;PARTSTAT=ACCEPTED;RSVP=TRUE;CN="Staff Pi
 ck":http://trueskool.com/profile/Ren
ATTENDEE;ROLE=REQ-PARTICIPANT;PARTSTAT=TENTATIVE;RSVP=TRUE;CN="lw_muse
 @yahoo.com":http://trueskool.com/profile/lwmuseyahoocom
END:VEVENT
END:VCALENDAR
