BEGIN:VCALENDAR
PRODID:NingEventWidget-v1
VERSION:2.0
METHOD:PUBLISH
BEGIN:VTIMEZONE
TZID:America/Los_Angeles
X-LIC-LOCATION:America/Los_Angeles
BEGIN:DAYLIGHT
TZOFFSETFROM:-0800
TZOFFSETTO:-0700
TZNAME:PDT
DTSTART:19700308T020000
RRULE:FREQ=YEARLY;BYMONTH=3;BYDAY=2SU
END:DAYLIGHT
BEGIN:STANDARD
TZOFFSETFROM:-0700
TZOFFSETTO:-0800
TZNAME:PST
DTSTART:19701101T020000
RRULE:FREQ=YEARLY;BYMONTH=11;BYDAY=1SU
END:STANDARD
END:VTIMEZONE
BEGIN:VEVENT
UID:1464587:Event:654211
DTSTAMP:20260420T122422Z
SUMMARY:DANNY BROWN (WIN TICKETS)
DESCRIPTION: ENTER TO WIN A PAIR OF TICKETS. WINNER WILL BE DRAWN RAND
 OMLY AND ANNOUNCED 2 DAYS PRIOR TO EVENT.  \n\nTuesday, October 11, 
 2016\nDANNY BROWN Maxo Kream, ZelooperZ\nTHE REGENCY BALLROOM 1300 Van
  Ness Avenue San Francisco, CA 94109 (415) 673-5716 Doors: 7:00PM |Sho
 w: 8:00PM >> BUY TICKETS\n\n\nFor more information visit http://truesk
 ool.com/events/danny-brown
DTSTART;TZID=America/Los_Angeles:20161011T200000
DTEND;TZID=America/Los_Angeles:20161011T230000
CATEGORIES:"san francisco", oakland, berkley, "san jose", "bay area"
LOCATION:THE REGENCY BALLROOM, SF
WEBSITE:http://www.axs.com/events/312446/danny-brown-tickets?cid=reg_d
 annybrown_trueskool
URL:http://www.axs.com/events/312446/danny-brown-tickets?cid=reg_danny
 brown_trueskool
CONTACT:
ORGANIZER:Goldenvoice
ATTACH;FMTTYPE="image/jpeg":http://storage.ning.com/topology/rest/1.0/
 file/get/2247991669?profile=original
ATTENDEE;ROLE=REQ-PARTICIPANT;PARTSTAT=ACCEPTED;RSVP=TRUE;CN="Editor's
  Pick":http://trueskool.com/profile/RentheVinylArchaeologist
END:VEVENT
END:VCALENDAR
