BEGIN:VCALENDAR
PRODID:NingEventWidget-v1
VERSION:2.0
METHOD:PUBLISH
BEGIN:VTIMEZONE
TZID:America/Los_Angeles
X-LIC-LOCATION:America/Los_Angeles
BEGIN:DAYLIGHT
TZOFFSETFROM:-0800
TZOFFSETTO:-0700
TZNAME:PDT
DTSTART:19700308T020000
RRULE:FREQ=YEARLY;BYMONTH=3;BYDAY=2SU
END:DAYLIGHT
BEGIN:STANDARD
TZOFFSETFROM:-0700
TZOFFSETTO:-0800
TZNAME:PST
DTSTART:19701101T020000
RRULE:FREQ=YEARLY;BYMONTH=11;BYDAY=1SU
END:STANDARD
END:VTIMEZONE
BEGIN:VEVENT
UID:1464587:Event:644687
DTSTAMP:20260421T011014Z
SUMMARY:Da MaddHouze Presents Locksmith
DESCRIPTION:Da MaddHouze once again brings you another exclusive event
 , this time with headliner Locksmith with DJ True Justice and some dop
 e local support.  The line up goes as follows:  Outbound ( Dave Canal,
  Telli Prego & Big Vic )  Champlu  Breakadawn  King Reegz  Legends Liv
 e Forever  &  DMHLabel artist   Hugo Monster  Tickets are $10 in adva
 nce/ $15 at the door  DJ StevieBoy Muziq & DJ L.O.C will be in the mix
  \n\nFor more information visit http://trueskool.com/events/da-maddho
 uze-presents-locksmith
DTSTART;TZID=America/Los_Angeles:20160402T210000
DTEND;TZID=America/Los_Angeles:20160403T020000
CATEGORIES:locksmith, hugo, monster, maddhouze, breakadawn
LOCATION:Brick & Mortar Muisc Hall, San Francisco, CA
WEBSITE:http://brickandmortarmusic.com/event.cfm?id=231728&cart
URL:http://brickandmortarmusic.com/event.cfm?id=231728&cart
CONTACT:
ORGANIZER:Hugo Monster Da maddhouze
ATTACH;FMTTYPE="image/jpeg":
ATTENDEE;ROLE=REQ-PARTICIPANT;PARTSTAT=ACCEPTED;RSVP=TRUE;CN="Breakada
 wn juan":http://trueskool.com/profile/Breakadawnjuan
END:VEVENT
END:VCALENDAR
