BEGIN:VCALENDAR
PRODID:NingEventWidget-v1
VERSION:2.0
METHOD:PUBLISH
BEGIN:VTIMEZONE
TZID:America/Los_Angeles
X-LIC-LOCATION:America/Los_Angeles
BEGIN:DAYLIGHT
TZOFFSETFROM:-0800
TZOFFSETTO:-0700
TZNAME:PDT
DTSTART:19700308T020000
RRULE:FREQ=YEARLY;BYMONTH=3;BYDAY=2SU
END:DAYLIGHT
BEGIN:STANDARD
TZOFFSETFROM:-0700
TZOFFSETTO:-0800
TZNAME:PST
DTSTART:19701101T020000
RRULE:FREQ=YEARLY;BYMONTH=11;BYDAY=1SU
END:STANDARD
END:VTIMEZONE
BEGIN:VEVENT
UID:1464587:Event:444519
DTSTAMP:20260421T021649Z
SUMMARY:Cypress Hill @ the Best Buy Theater [NYC]
DESCRIPTION:\nCypress Hill\n\n\n\n\nBest Buy Theater New York, NY\n\nT
 hu, 10/30/14 08:00 PM\n\nSee Ticketson Partner Site\n\n\n\n\n\n\nFor m
 ore information visit http://trueskool.com/events/cypress-hill-the-bes
 t-buy-theater-10-30
DTSTART;TZID=America/Los_Angeles:20141030T200000
DTEND;TZID=America/Los_Angeles:20141030T230000
CATEGORIES:nyc
LOCATION:Best Buy Theater New York, NY
WEBSITE:http://www.ticketmaster.com/partner_redirect?v=-tOSNnnYslGqI-h
 HXAwi5HV9mPnghp48Xw3i2RBPsmJnDvxdC3o_ff0IG5IBbv7Gu1FmvX_Tf5fFrsAScJhy4
 uSuxvR4S24SikMzAa_X0cwgv8vZjNruUNyGqEutNfeGWLiOaSZlffz69x5DkQqygh9w0XG
 ZLR0kd9q7-bFG0UEoN2NolXlgqjgkizo0qPbY2aFZ5araN51B&eventid=2B004D04C458
 08C1&artistid=702466&artistname=Cypress%20Hill
URL:http://www.ticketmaster.com/partner_redirect?v=-tOSNnnYslGqI-hHXAw
 i5HV9mPnghp48Xw3i2RBPsmJnDvxdC3o_ff0IG5IBbv7Gu1FmvX_Tf5fFrsAScJhy4uSux
 vR4S24SikMzAa_X0cwgv8vZjNruUNyGqEutNfeGWLiOaSZlffz69x5DkQqygh9w0XGZLR0
 kd9q7-bFG0UEoN2NolXlgqjgkizo0qPbY2aFZ5araN51B&eventid=2B004D04C45808C1
 &artistid=702466&artistname=Cypress%20Hill
CONTACT:
ORGANIZER:Editor's Pick
ATTACH;FMTTYPE="image/jpeg":http://storage.ning.com/topology/rest/1.0/
 file/get/2247969765?profile=original
ATTENDEE;ROLE=REQ-PARTICIPANT;PARTSTAT=ACCEPTED;RSVP=TRUE;CN="Ren the 
 Vinyl Archaeologist":http://trueskool.com/profile/xh51jvilojur
END:VEVENT
END:VCALENDAR
