BEGIN:VCALENDAR
PRODID:NingEventWidget-v1
VERSION:2.0
METHOD:PUBLISH
BEGIN:VTIMEZONE
TZID:America/Los_Angeles
X-LIC-LOCATION:America/Los_Angeles
BEGIN:DAYLIGHT
TZOFFSETFROM:-0800
TZOFFSETTO:-0700
TZNAME:PDT
DTSTART:19700308T020000
RRULE:FREQ=YEARLY;BYMONTH=3;BYDAY=2SU
END:DAYLIGHT
BEGIN:STANDARD
TZOFFSETFROM:-0700
TZOFFSETTO:-0800
TZNAME:PST
DTSTART:19701101T020000
RRULE:FREQ=YEARLY;BYMONTH=11;BYDAY=1SU
END:STANDARD
END:VTIMEZONE
BEGIN:VEVENT
UID:1464587:Event:696653
DTSTAMP:20260424T045502Z
SUMMARY:Cypress Hill
DESCRIPTION:ENTER TO WIN A PAIR OF TICKETS. WINNER WILL BE DRAWN RANDO
 MLY AND ANNOUNCED 2 DAYS PRIOR TO EVENT.\r\n \r\n\r\nMonday, April 20,
  2020\r\n Cypress Hill\r\nFox Theater, Oakland\r\n Doors: 6:30 pm | Sh
 ow: 7:30 pm\r\n This event is all ages.\r\n>> BUY TICKETS\r\n\r\n\r\n\
 n\nFor more information visit http://trueskool.com/events/cypress-hill
 -5
DTSTART;TZID=America/Los_Angeles:20200420T183000
DTEND;TZID=America/Los_Angeles:20200420T230000
CATEGORIES:"bay area", oakland
LOCATION:Fox Theater, Oakland
WEBSITE:https://www.ticketmaster.com/cypress-hill-oakland-california-0
 4-20-2020/event/1C005828D1924ADD?camefrom=CFC_ANOTHERPLANET_web&amp;am
 p;brand=anotherplanet
URL:https://www.ticketmaster.com/cypress-hill-oakland-california-04-20
 -2020/event/1C005828D1924ADD?camefrom=CFC_ANOTHERPLANET_web&amp;amp;br
 and=anotherplanet
CONTACT:
ORGANIZER:Another Planet Ent
ATTACH;FMTTYPE="image/jpeg":https://storage.ning.com/topology/rest/1.0
 /file/get/3918439205?profile=original
ATTENDEE;ROLE=REQ-PARTICIPANT;PARTSTAT=ACCEPTED;RSVP=TRUE;CN="James Mi
 chael Federighi":http://trueskool.com/profile/JamesMichaelFederighi
ATTENDEE;ROLE=REQ-PARTICIPANT;PARTSTAT=ACCEPTED;RSVP=TRUE;CN="Editor's
  Pick":http://trueskool.com/profile/RentheVinylArchaeologist
END:VEVENT
END:VCALENDAR
