BEGIN:VCALENDAR
PRODID:NingEventWidget-v1
VERSION:2.0
METHOD:PUBLISH
BEGIN:VTIMEZONE
TZID:America/Los_Angeles
X-LIC-LOCATION:America/Los_Angeles
BEGIN:DAYLIGHT
TZOFFSETFROM:-0800
TZOFFSETTO:-0700
TZNAME:PDT
DTSTART:19700308T020000
RRULE:FREQ=YEARLY;BYMONTH=3;BYDAY=2SU
END:DAYLIGHT
BEGIN:STANDARD
TZOFFSETFROM:-0700
TZOFFSETTO:-0800
TZNAME:PST
DTSTART:19701101T020000
RRULE:FREQ=YEARLY;BYMONTH=11;BYDAY=1SU
END:STANDARD
END:VTIMEZONE
BEGIN:VEVENT
UID:1464587:Event:642379
DTSTAMP:20260420T200042Z
SUMMARY:Cypress Hill, Berner, Juicy J, J Boog, Chronixx, Kool John, Di
 zzy Wright
DESCRIPTION:\n\n Wednesday, April 20 2016\nBerner presents  Hippie Hi
 ll\nFeaturing Cypress Hill Berner, Juicy J, J Boog, Chronixx, Kool Joh
 n, Dizzy Wright\n Bill Graham Civic Auditorium\nSan Francisco, CA 5:30
  PM\n>> BUY TICKETS\n\n\n\nFor more information visit http://trueskool
 .com/events/cypress-hill-3
DTSTART;TZID=America/Los_Angeles:20160420T173000
DTEND;TZID=America/Los_Angeles:20160420T230000
CATEGORIES:"san francisco", oakland, berkley, "san jose", "bay area"
LOCATION:Bill Graham Civic Auditorium, San Francisco
WEBSITE:http://www.ticketmaster.com/event/1C005036ADCF4979?brand=anoth
 erplanet&camefrom=CFC_ANOTHERPLANET
URL:http://www.ticketmaster.com/event/1C005036ADCF4979?brand=anotherpl
 anet&camefrom=CFC_ANOTHERPLANET
CONTACT:
ORGANIZER;CN="Editor's Pick":http://trueskool.com/profile/RentheVinylA
 rchaeologist
ATTACH;FMTTYPE="image/jpeg":http://storage.ning.com/topology/rest/1.0/
 file/get/2247985448?profile=original
ATTENDEE;ROLE=REQ-PARTICIPANT;PARTSTAT=ACCEPTED;RSVP=TRUE;CN="Editor's
  Pick":http://trueskool.com/profile/RentheVinylArchaeologist
ATTENDEE;ROLE=REQ-PARTICIPANT;PARTSTAT=ACCEPTED;RSVP=TRUE;CN="Katrina 
 Shaw":http://trueskool.com/profile/KatrinaShaw
ATTENDEE;ROLE=REQ-PARTICIPANT;PARTSTAT=ACCEPTED;RSVP=TRUE;CN="Donte Ha
 rrison":http://trueskool.com/profile/DonteHarrison
ATTENDEE;ROLE=REQ-PARTICIPANT;PARTSTAT=ACCEPTED;RSVP=TRUE;CN=Frost:htt
 p://trueskool.com/profile/Frost
ATTENDEE;ROLE=REQ-PARTICIPANT;PARTSTAT=ACCEPTED;RSVP=TRUE;CN="Mark Ste
 bbins":http://trueskool.com/profile/MarkStebbins
END:VEVENT
END:VCALENDAR
