BEGIN:VCALENDAR
PRODID:NingEventWidget-v1
VERSION:2.0
METHOD:PUBLISH
BEGIN:VTIMEZONE
TZID:America/Los_Angeles
X-LIC-LOCATION:America/Los_Angeles
BEGIN:DAYLIGHT
TZOFFSETFROM:-0800
TZOFFSETTO:-0700
TZNAME:PDT
DTSTART:19700308T020000
RRULE:FREQ=YEARLY;BYMONTH=3;BYDAY=2SU
END:DAYLIGHT
BEGIN:STANDARD
TZOFFSETFROM:-0700
TZOFFSETTO:-0800
TZNAME:PST
DTSTART:19701101T020000
RRULE:FREQ=YEARLY;BYMONTH=11;BYDAY=1SU
END:STANDARD
END:VTIMEZONE
BEGIN:VEVENT
UID:1464587:Event:544938
DTSTAMP:20260420T214424Z
SUMMARY:Curren$y (Atlanta)
DESCRIPTION:\nDate\nLocation\nEvent Details\nFind Tickets\n\n\nMAR  
 \n25\nWED\n\nMasqueradeAtlanta, GA07:00 PM\n\n Curren$y - The Pilot 
  Talk III Tour Details: Curren$y\nSee Tickets\n\n\n\n\nFor more info
 rmation visit http://trueskool.com/events/curren-y-atlanta
DTSTART;TZID=America/Los_Angeles:20150325T190000
DTEND;TZID=America/Los_Angeles:20150325T230000
CATEGORIES:atlanta, georgia, atl
LOCATION:Masquerade, Atlanta
WEBSITE:http://www.ticketmaster.com/curreny-the-pilot-talk-iii-atlanta
 -georgia-03-25-2015/event/0E004E45C691A218?artistid=1466394&majorcatid
 =10001&minorcatid=3&tm_link=artist_msg-0_0E004E45C691A218
URL:http://www.ticketmaster.com/curreny-the-pilot-talk-iii-atlanta-geo
 rgia-03-25-2015/event/0E004E45C691A218?artistid=1466394&majorcatid=100
 01&minorcatid=3&tm_link=artist_msg-0_0E004E45C691A218
CONTACT:
ORGANIZER;CN="Editor's Pick":http://trueskool.com/profile/RentheVinylA
 rchaeologist
ATTACH;FMTTYPE="image/jpeg":http://storage.ning.com/topology/rest/1.0/
 file/get/2247973267?profile=original
ATTENDEE;ROLE=REQ-PARTICIPANT;PARTSTAT=ACCEPTED;RSVP=TRUE;CN="Editor's
  Pick":http://trueskool.com/profile/RentheVinylArchaeologist
END:VEVENT
END:VCALENDAR
