BEGIN:VCALENDAR
PRODID:NingEventWidget-v1
VERSION:2.0
METHOD:PUBLISH
BEGIN:VTIMEZONE
TZID:America/Los_Angeles
X-LIC-LOCATION:America/Los_Angeles
BEGIN:DAYLIGHT
TZOFFSETFROM:-0800
TZOFFSETTO:-0700
TZNAME:PDT
DTSTART:19700308T020000
RRULE:FREQ=YEARLY;BYMONTH=3;BYDAY=2SU
END:DAYLIGHT
BEGIN:STANDARD
TZOFFSETFROM:-0700
TZOFFSETTO:-0800
TZNAME:PST
DTSTART:19701101T020000
RRULE:FREQ=YEARLY;BYMONTH=11;BYDAY=1SU
END:STANDARD
END:VTIMEZONE
BEGIN:VEVENT
UID:1464587:Event:58457
DTSTAMP:20260421T125601Z
SUMMARY:Culture Corner
DESCRIPTION:Every Thursday Make A Visit To...\nCULTURE CORNER!\n\nRoot
 s Reggae | Dub | Rocksteady |Classic Dancehall\nClassic Jamaican sound
 s in a foundation stylee!\n\nWith Weekly Rotating Residents:\nDJ Tomas
  ( Umoja Soundsystem, SF)\nYusuke (Version Intl.)\nVinnie Esparza (Gro
 ove Merchant)\nBasshaka & ILWF (Amoeba Music)\n\nDrink Specials | Clas
 sic Reggae Videos | Dominos\n21 w/ID | NO COVER - FREE | 9:30 p.m. to 
 2 a.m.\nKoko Cocktails 1060 Geary at Van Ness San Francisco\n\nFor mor
 e information visit http://trueskool.com/events/culture-corner
DTSTART;TZID=America/Los_Angeles:20100603T220000
DTEND;TZID=America/Los_Angeles:20100604T020000
CATEGORIES:reggae, roots, dub, classic, dancehall, rub-a-dub
LOCATION:Koko Cocktails, San Francisco, CA
WEBSITE:http://www.kokococktails.com
URL:http://www.kokococktails.com
CONTACT:
ORGANIZER;CN="DJ Tomas":http://trueskool.com/profile/DJTomas
ATTACH;FMTTYPE="image/jpeg":http://storage.ning.com/topology/rest/1.0/
 file/get/2247880467?profile=original
ATTENDEE;ROLE=REQ-PARTICIPANT;PARTSTAT=ACCEPTED;RSVP=TRUE;CN="DJ Tomas
 ":http://trueskool.com/profile/DJTomas
END:VEVENT
END:VCALENDAR
