BEGIN:VCALENDAR
PRODID:NingEventWidget-v1
VERSION:2.0
METHOD:PUBLISH
BEGIN:VTIMEZONE
TZID:America/Los_Angeles
X-LIC-LOCATION:America/Los_Angeles
BEGIN:DAYLIGHT
TZOFFSETFROM:-0800
TZOFFSETTO:-0700
TZNAME:PDT
DTSTART:19700308T020000
RRULE:FREQ=YEARLY;BYMONTH=3;BYDAY=2SU
END:DAYLIGHT
BEGIN:STANDARD
TZOFFSETFROM:-0700
TZOFFSETTO:-0800
TZNAME:PST
DTSTART:19701101T020000
RRULE:FREQ=YEARLY;BYMONTH=11;BYDAY=1SU
END:STANDARD
END:VTIMEZONE
BEGIN:VEVENT
UID:1464587:Event:653180
DTSTAMP:20260422T023143Z
SUMMARY:Cukui Music Festival
DESCRIPTION:The inaugural Cukui Music Festival will take place at th
 e Redwood Amphitheater of California’s Great America on September 
 3rd, 2016 from 10AM - 10PM. Cukui Music Festival is rooted in the a
 ppreciation of music as a universal language and brings the community 
 together with a universal blend of Reggae, R&B, Hip-hop, to Latin Musi
 c. Headlining this year’s festival will be J Boog and IAMSU!, wit
 h other artists including Tribal Seeds, Drew Deezy, Morgan Heritage, 
 Ozomatli, Bayonics, Hooliganz, Zhen and Rey Res. This all-day festiv
 al is a family affair and will include a variety of local arts & craf
 ts vendors and food trucks serving different cultural flavors. Everyo
 ne will have the opportunity to ride their favorite rides at Great 
 America and watch their favorite artist perform onstage, concluding 
 the night with a colorful fireworks show!    Tickets are on sale now
  at $85 including full access to Great America, and $60 for season pa
 ss holders. Kids ages 2 and under are free! Purchase tickets here:http
 s://www.cagreatamerica.com/?mobile=0&keyword=concerts\n\nFor more info
 rmation visit http://trueskool.com/events/cukui-music-festival
DTSTART;TZID=America/Los_Angeles:20160903T100000
DTEND;TZID=America/Los_Angeles:20160903T220000
CATEGORIES:"bay area", "san jose", "san francisco", "south bay"
LOCATION:California Great America
WEBSITE:https://www.cagreatamerica.com/?mobile=0&keyword=concerts
URL:https://www.cagreatamerica.com/?mobile=0&keyword=concerts
CONTACT:
ORGANIZER:Cukui Music Festival
ATTACH;FMTTYPE="image/jpeg":http://storage.ning.com/topology/rest/1.0/
 file/get/2247990842?profile=original
ATTENDEE;ROLE=REQ-PARTICIPANT;PARTSTAT=ACCEPTED;RSVP=TRUE;CN="Mercedes
  Romana":http://trueskool.com/profile/MercedesRomana
END:VEVENT
END:VCALENDAR
