BEGIN:VCALENDAR
PRODID:NingEventWidget-v1
VERSION:2.0
METHOD:PUBLISH
BEGIN:VTIMEZONE
TZID:America/Los_Angeles
X-LIC-LOCATION:America/Los_Angeles
BEGIN:DAYLIGHT
TZOFFSETFROM:-0800
TZOFFSETTO:-0700
TZNAME:PDT
DTSTART:19700308T020000
RRULE:FREQ=YEARLY;BYMONTH=3;BYDAY=2SU
END:DAYLIGHT
BEGIN:STANDARD
TZOFFSETFROM:-0700
TZOFFSETTO:-0800
TZNAME:PST
DTSTART:19701101T020000
RRULE:FREQ=YEARLY;BYMONTH=11;BYDAY=1SU
END:STANDARD
END:VTIMEZONE
BEGIN:VEVENT
UID:1464587:Event:56883
DTSTAMP:20260421T112950Z
SUMMARY:Crown City Rockers
DESCRIPTION:Friday June 4th\nCrown City Rockers\nPlus Special Guests:\
 nJ-Boogie's Dubtronic Science (live)\nSkins and Needles\nDJ Zeph\nHost
 ed by Gift of Gab and Lateef the Truthspeaker\n\nThe Independent\n628 
 DIVISADERO, SAN FRANCISCO, CA\nPhone: 415.771.1421\nDoors @ 8:30pm\nSh
 ow @ 9pm\nAges: 21+\nTickets: $16 ADV | $18 DOOR\n\n\n\nFor more infor
 mation visit http://trueskool.com/events/crown-city-rockers-1
DTSTART;TZID=America/Los_Angeles:20100604T210000
DTEND;TZID=America/Los_Angeles:20100605T020000
CATEGORIES:hip, hop, dj
LOCATION:The Independent, San Francisco, CA
WEBSITE:http://www.ticketweb.com/t3/sale/SaleEventDetail?dispatch=load
 SelectionData&eventId=1726705
URL:http://www.ticketweb.com/t3/sale/SaleEventDetail?dispatch=loadSele
 ctionData&eventId=1726705
CONTACT:415.771.1421
ORGANIZER;CN="Editor's Pick":http://trueskool.com/profile/RentheVinylA
 rchaeologist
ATTACH;FMTTYPE="image/jpeg":http://storage.ning.com/topology/rest/1.0/
 file/get/2247878906?profile=original
ATTENDEE;ROLE=REQ-PARTICIPANT;PARTSTAT=ACCEPTED;RSVP=TRUE;CN="Editor's
  Pick":http://trueskool.com/profile/RentheVinylArchaeologist
END:VEVENT
END:VCALENDAR
