BEGIN:VCALENDAR
PRODID:NingEventWidget-v1
VERSION:2.0
METHOD:PUBLISH
BEGIN:VTIMEZONE
TZID:America/Los_Angeles
X-LIC-LOCATION:America/Los_Angeles
BEGIN:DAYLIGHT
TZOFFSETFROM:-0800
TZOFFSETTO:-0700
TZNAME:PDT
DTSTART:19700308T020000
RRULE:FREQ=YEARLY;BYMONTH=3;BYDAY=2SU
END:DAYLIGHT
BEGIN:STANDARD
TZOFFSETFROM:-0700
TZOFFSETTO:-0800
TZNAME:PST
DTSTART:19701101T020000
RRULE:FREQ=YEARLY;BYMONTH=11;BYDAY=1SU
END:STANDARD
END:VTIMEZONE
BEGIN:VEVENT
UID:1464587:Event:651206
DTSTAMP:20260420T190856Z
SUMMARY:Cream of Beat Reunion ft. Luniz, Mind Motion, Apollo, Shortkut
 , Fuze, D-Sharp, + more
DESCRIPTION:ENTER TO WIN A PAIR OF TICKETS. WINNER WILL BE DRAWN RANDO
 MLY AND ANNOUNCED 2 DAYS PRIOR TO EVENT.   \n Sunday, July 3rd 2016
  The Pirate DJs serve up another meal... CREAM OF BEAT REUNION  We're 
 gonna party like we use to back in the day!\nFEATURING a classic LIVE 
 Performance by... THE LUNIZ Performing Classic Hits \"I Got 5 On It\",
  \"Playa Hata\" & More! + SPECIAL SURPRISE GUESTS\nFeaturing Pirate DJ
 s  MIND MOTION * IVAN DARK MONEY\n+ Special Guests DJs APOLLO * SHORTK
 UT * FUZE D-SHARP * BIG VON * SCOTTY FOX\nSpinning Hip-Hop, R&B, Soul 
 and Dancehall Reggae from the beginning to 2002 only!\nHosted by: CHUY
  GOMEZ, FRAN BOOGIE, THE LOVE MOVEMENT, TRUE SKOOL, MR JE, RANDALL RUF
 INO + More!\nBrought to you by: PERSONAL TOUCH, THE PIRATE DJs & TRUE\
 nAt RUBY SKYE - 420 Mason Street in San Francisco 9pm-Going Afterhours
  | 21 and over | No Dresscode but keep it FRESH This event will sell o
 ut so get your tickets early! Tickets On Sale & available now at https
 ://creamofbeat2016.eventbrite.com\n\nAll Early Bird Ticket Buyers will
  receive a FREE CREAM OF BEAT Reunion CD mixed by Mind Motion! CDs wil
 l be given out at the door.\nFOR VIP BOTTLE RESERVATIONS Text 415-341-
 7314 or Email info@personaltouchsf.com\nDue to popular demand, we're b
 ringing back this old school party 4th of July weekend and Thanksgivin
 g night this year! All original CREAM OF BEAT party goers and anyone t
 hat can appreciate an old school vibe and music is welcome! Don't miss
  this incredible night! We hope you can join us!\n\nFor more informati
 on visit http://trueskool.com/events/cream-of-beat-reunion-ft-luniz-mi
 nd-motion-apollo-shortkut-fuze-d
DTSTART;TZID=America/Los_Angeles:20160703T210000
DTEND;TZID=America/Los_Angeles:20160704T020000
CATEGORIES:"bay area", "san francisco"
LOCATION:Ruby Skye, San Francisco
WEBSITE:https://creamofbeat2016.eventbrite.com
URL:https://creamofbeat2016.eventbrite.com
CONTACT:
ORGANIZER:Personal Touch Ent & Pirate DJs
ATTACH;FMTTYPE="image/jpeg":http://storage.ning.com/topology/rest/1.0/
 file/get/2247989095?profile=original
ATTENDEE;ROLE=REQ-PARTICIPANT;PARTSTAT=ACCEPTED;RSVP=TRUE;CN="Editor's
  Pick":http://trueskool.com/profile/RentheVinylArchaeologist
END:VEVENT
END:VCALENDAR
