BEGIN:VCALENDAR
PRODID:NingEventWidget-v1
VERSION:2.0
METHOD:PUBLISH
BEGIN:VTIMEZONE
TZID:America/Los_Angeles
X-LIC-LOCATION:America/Los_Angeles
BEGIN:DAYLIGHT
TZOFFSETFROM:-0800
TZOFFSETTO:-0700
TZNAME:PDT
DTSTART:19700308T020000
RRULE:FREQ=YEARLY;BYMONTH=3;BYDAY=2SU
END:DAYLIGHT
BEGIN:STANDARD
TZOFFSETFROM:-0700
TZOFFSETTO:-0800
TZNAME:PST
DTSTART:19701101T020000
RRULE:FREQ=YEARLY;BYMONTH=11;BYDAY=1SU
END:STANDARD
END:VTIMEZONE
BEGIN:VEVENT
UID:1464587:Event:368445
DTSTAMP:20260421T070814Z
SUMMARY:Cream of Beat Reunion 2014 feat. Keith Murray, JT the Bigga Fi
 gga, Pirate DJs, plus more!
DESCRIPTION: THURSDAY, JULY 3\nPirate DJs & Personal Touch present\nCr
 eam of Beat Reunion 2014\nFeaturing: Keith Murray\nJT The Bigga Figga\
 n+ All-Star DJ Lineup Mind Motion, Ivan, Dark Money, Apollo, Mr. E, DJ
  D-Sharp, Miles Medina, Remedy\n@ MEZZANINE 444 Jesse St, SF Tickets o
 n Sale Now!!! Get Advance Tickets Now www.ticketfly.com/event/579995 
 or www.CreamofBeat.com\n\nFor more information visit http://trueskool.
 com/events/cream-of-beat-reunion-2014-feat-keith-murray-jt-the-bigga-f
 igga-p
DTSTART;TZID=America/Los_Angeles:20140703T210000
DTEND;TZID=America/Los_Angeles:20140704T020000
CATEGORIES:"bay area", "san francisco"
LOCATION:Mezzanine, San Francisco
WEBSITE:http://www.ticketfly.com/event/579995
URL:http://www.ticketfly.com/event/579995
CONTACT:
ORGANIZER:Personal Touch
ATTACH;FMTTYPE="image/jpeg":http://storage.ning.com/topology/rest/1.0/
 file/get/2247963509?profile=original
ATTENDEE;ROLE=REQ-PARTICIPANT;PARTSTAT=ACCEPTED;RSVP=TRUE;CN="James Mi
 chael Federighi":http://trueskool.com/profile/JamesMichaelFederighi
ATTENDEE;ROLE=REQ-PARTICIPANT;PARTSTAT=ACCEPTED;RSVP=TRUE;CN="Staff Pi
 ck":http://trueskool.com/profile/Ren
END:VEVENT
END:VCALENDAR
