BEGIN:VCALENDAR
PRODID:NingEventWidget-v1
VERSION:2.0
METHOD:PUBLISH
BEGIN:VTIMEZONE
TZID:America/Los_Angeles
X-LIC-LOCATION:America/Los_Angeles
BEGIN:DAYLIGHT
TZOFFSETFROM:-0800
TZOFFSETTO:-0700
TZNAME:PDT
DTSTART:19700308T020000
RRULE:FREQ=YEARLY;BYMONTH=3;BYDAY=2SU
END:DAYLIGHT
BEGIN:STANDARD
TZOFFSETFROM:-0700
TZOFFSETTO:-0800
TZNAME:PST
DTSTART:19701101T020000
RRULE:FREQ=YEARLY;BYMONTH=11;BYDAY=1SU
END:STANDARD
END:VTIMEZONE
BEGIN:VEVENT
UID:1464587:Event:632514
DTSTAMP:20260421T132633Z
SUMMARY:Crash An Indian Wedding Party with Non Stop Bhangra
DESCRIPTION:\n\nHave you ever wanted to crash an Indian wedding party,
  where you walk into a room filled with bright beautiful outfits, arms
  in the air, swirling of colors as the dancing becomes an expression o
 f the joyous occasion. Well here's your opportunity to become part of 
 that exuberant celebration without the stress of last minute gifts, lo
 ng speeches and the guilt of not being invited. We are bringing back o
 ne of our favorite theme's \"Crash an Indian Wedding party\".  \nJoin
  the NSB crew as we take you on a colorful journey to experience an In
 dian wedding party full with colorful vibes, beautifully dressed peopl
 e, sweets, henna, food, and endless dancing and music.Put on your favo
 rite outfit and your dancing shoes and show off the moves you will lea
 rn during the dance lesson or show off the moves you've been secretly 
 practicing for the perfect occasion. Lets dance like its an Indian Wed
 ding Party!\n\nMORE INFO & TICKETS: http://nsb115.eventbrite.com\n\nFo
 r more information visit http://trueskool.com/events/crash-an-indian-w
 edding-party-with-non-stop-bhangra
DTSTART;TZID=America/Los_Angeles:20150718T210000
DTEND;TZID=America/Los_Angeles:20150719T030000
CATEGORIES:"san francisco", "bay area"
LOCATION:Public Works, SF, CA
WEBSITE:http://http:/nsb115.eventbrite.com
URL:http://http:/nsb115.eventbrite.com
CONTACT:
ORGANIZER;CN="Non Stop Bhangra":http://trueskool.com/profile/NonStopBh
 angra
ATTACH;FMTTYPE="image/jpeg":http://storage.ning.com/topology/rest/1.0/
 file/get/2247977905?profile=original
ATTENDEE;ROLE=REQ-PARTICIPANT;PARTSTAT=ACCEPTED;RSVP=TRUE;CN="Non Stop
  Bhangra":http://trueskool.com/profile/NonStopBhangra
END:VEVENT
END:VCALENDAR
