BEGIN:VCALENDAR
PRODID:NingEventWidget-v1
VERSION:2.0
METHOD:PUBLISH
BEGIN:VTIMEZONE
TZID:America/Los_Angeles
X-LIC-LOCATION:America/Los_Angeles
BEGIN:DAYLIGHT
TZOFFSETFROM:-0800
TZOFFSETTO:-0700
TZNAME:PDT
DTSTART:19700308T020000
RRULE:FREQ=YEARLY;BYMONTH=3;BYDAY=2SU
END:DAYLIGHT
BEGIN:STANDARD
TZOFFSETFROM:-0700
TZOFFSETTO:-0800
TZNAME:PST
DTSTART:19701101T020000
RRULE:FREQ=YEARLY;BYMONTH=11;BYDAY=1SU
END:STANDARD
END:VTIMEZONE
BEGIN:VEVENT
UID:1464587:Event:675714
DTSTAMP:20260420T183435Z
SUMMARY:CORINNE BAILEY RAE WITH SPECIAL GUEST GOAPELE
DESCRIPTION:CORINNE BAILEY RAE WITH SPECIAL GUEST GOAPELE\r\nTuesday, 
 July 17, 2018 Doors: 5:30PM |Show: 7:30PM\r\n14831 Pierce Road Saratog
 a, CA 95070 THE MOUNTAIN WINERY\n\nFor more information visit http://t
 rueskool.com/events/corinne-bailey-rae-with-special-guest-goapele
DTSTART;TZID=America/Los_Angeles:20180717T193000
DTEND;TZID=America/Los_Angeles:20180717T230000
CATEGORIES:"bay area", oakland, "san francisco", "san jose", berkeley
LOCATION:THE MOUNTAIN WINERY, Saratoga
WEBSITE:https://www.axs.com/events/328239/corinne-bailey-rae-with-spec
 ial-guest-goapele-tickets?skin=goldenvoice
URL:https://www.axs.com/events/328239/corinne-bailey-rae-with-special-
 guest-goapele-tickets?skin=goldenvoice
CONTACT:
ORGANIZER;CN="Editor's Pick":http://trueskool.com/profile/RentheVinylA
 rchaeologist
ATTACH;FMTTYPE="image/jpeg":http://storage.ning.com/topology/rest/1.0/
 file/get/2248007801?profile=original
ATTENDEE;ROLE=REQ-PARTICIPANT;PARTSTAT=ACCEPTED;RSVP=TRUE;CN="Editor's
  Pick":http://trueskool.com/profile/RentheVinylArchaeologist
END:VEVENT
END:VCALENDAR
