BEGIN:VCALENDAR
PRODID:NingEventWidget-v1
VERSION:2.0
METHOD:PUBLISH
BEGIN:VTIMEZONE
TZID:America/Los_Angeles
X-LIC-LOCATION:America/Los_Angeles
BEGIN:DAYLIGHT
TZOFFSETFROM:-0800
TZOFFSETTO:-0700
TZNAME:PDT
DTSTART:19700308T020000
RRULE:FREQ=YEARLY;BYMONTH=3;BYDAY=2SU
END:DAYLIGHT
BEGIN:STANDARD
TZOFFSETFROM:-0700
TZOFFSETTO:-0800
TZNAME:PST
DTSTART:19701101T020000
RRULE:FREQ=YEARLY;BYMONTH=11;BYDAY=1SU
END:STANDARD
END:VTIMEZONE
BEGIN:VEVENT
UID:1464587:Event:662813
DTSTAMP:20260420T232229Z
SUMMARY:Cool Water Presents: Richie Rich Live, 6/24
DESCRIPTION:Be there and be player  #dopeonly\n\nFor more information 
 visit http://trueskool.com/events/cool-water-prresents-richie-rich-liv
 e-6-24
DTSTART;TZID=America/Los_Angeles:20170624T150000
DTEND;TZID=America/Los_Angeles:20170624T200000
CATEGORIES:oakland, bay, area, san, francisco
LOCATION:The New Parish, Oakland
WEBSITE:http://www.DopeOnly.com/dopespots
URL:http://www.DopeOnly.com/dopespots
CONTACT:510-638-3192
ORGANIZER:Cool Water, DopeOnly
ATTACH;FMTTYPE="image/jpeg":http://storage.ning.com/topology/rest/1.0/
 file/get/2247996830?profile=original
ATTENDEE;ROLE=REQ-PARTICIPANT;PARTSTAT=ACCEPTED;RSVP=TRUE;CN="Tali Ben
 attar":http://trueskool.com/profile/TaliBenattar550
ATTENDEE;ROLE=REQ-PARTICIPANT;PARTSTAT=ACCEPTED;RSVP=TRUE;CN="Rod Camp
 bell":http://trueskool.com/profile/RodCampbell
END:VEVENT
END:VCALENDAR
